BEGIN:VCALENDAR
VERSION:2.0
PRODID:-//Moulins rando - ECPv6.14.2//NONSGML v1.0//EN
CALSCALE:GREGORIAN
METHOD:PUBLISH
X-ORIGINAL-URL:https://moulins-rando.fr
X-WR-CALDESC:Évènements pour Moulins rando
REFRESH-INTERVAL;VALUE=DURATION:PT1H
X-Robots-Tag:noindex
X-PUBLISHED-TTL:PT1H
BEGIN:VTIMEZONE
TZID:Europe/Paris
BEGIN:DAYLIGHT
TZOFFSETFROM:+0100
TZOFFSETTO:+0200
TZNAME:CEST
DTSTART:20260329T010000
END:DAYLIGHT
BEGIN:STANDARD
TZOFFSETFROM:+0200
TZOFFSETTO:+0100
TZNAME:CET
DTSTART:20261025T010000
END:STANDARD
END:VTIMEZONE
BEGIN:VEVENT
DTSTART;TZID=Europe/Paris:20260102T090000
DTEND;TZID=Europe/Paris:20260102T110000
DTSTAMP:20260422T014408
CREATED:20251221T100545Z
LAST-MODIFIED:20251228T061642Z
UID:9382-1767344400-1767351600@moulins-rando.fr
SUMMARY:Marche nordique douce le vendredi 2 janvier 2026 à partir de Jouy-aux-Arches
DESCRIPTION:On démarre doucement ce 2 janvier 2026par une marche nordique qualifiée de douce avec très peu de montée à partir de Jouy-aux-Arches. Rendez-vous  9h du parking du Centre Socioculturel situé à la sortie du village direction de Corny.
URL:https://moulins-rando.fr/event/marche-nordique-douce-le-vendredi-2-janvier-2026-a-partir-de-jouy-aux-arches/
CATEGORIES:Marche nordique,Marche nordique douce
END:VEVENT
BEGIN:VEVENT
DTSTART;TZID=Europe/Paris:20260102T140000
DTEND;TZID=Europe/Paris:20260102T170000
DTSTAMP:20260422T014408
CREATED:20260102T151213Z
LAST-MODIFIED:20260102T151213Z
UID:9494-1767362400-1767373200@moulins-rando.fr
SUMMARY:MARCHE NORMALE A ROZERIEULLES
DESCRIPTION:RV 14H Parking du Centre Socioculturel  » Le Longeau « \, à l’entrée du village.
URL:https://moulins-rando.fr/event/marche-normale-a-rozerieulles/
CATEGORIES:Marche normale
ORGANIZER;CN="MAIRE Andr%C3%A9":MAILTO:maire.andre@orange.fr
END:VEVENT
BEGIN:VEVENT
DTSTART;TZID=Europe/Paris:20260104T090000
DTEND;TZID=Europe/Paris:20260104T123000
DTSTAMP:20260422T014408
CREATED:20251221T101122Z
LAST-MODIFIED:20251221T101206Z
UID:9384-1767517200-1767529800@moulins-rando.fr
SUMMARY:Marche du dimanche à la demi- journée à partir de METZ
DESCRIPTION:Rendez-vous 9h sur le PARKING METZ PATINOIRE – La randos sera autour des COURS D’EAUX MESSINS et fera 11\,5 KMS
URL:https://moulins-rando.fr/event/marche-du-dimanche-a-la-demi-journee-a-partir-de-metz/
CATEGORIES:Marche du dimanche
ORGANIZER;CN="LETZELTER Gis%C3%A8le":MAILTO:giletz@orange.fr
END:VEVENT
BEGIN:VEVENT
DTSTART;TZID=Europe/Paris:20260105T140000
DTEND;TZID=Europe/Paris:20260105T153000
DTSTAMP:20260422T014408
CREATED:20251221T101634Z
LAST-MODIFIED:20251221T101634Z
UID:9386-1767621600-1767627000@moulins-rando.fr
SUMMARY:Marche santé le lundi 5 janvier   à 14h\, à  partir de la Zone commerciale  D'AUGNY - WAVES
DESCRIPTION:rendez-vous 14 à partir du parking Truffaut – zone commerciale WAVES
URL:https://moulins-rando.fr/event/marche-sante-le-lundi-5-janvier-a-14h-a-partir-de-la-zone-commerciale-daugny-waves/
CATEGORIES:Marche santé
ORGANIZER;CN="DO REGO Isabelle":MAILTO:manueldorego@wanadoo.fr
END:VEVENT
BEGIN:VEVENT
DTSTART;TZID=Europe/Paris:20260105T140000
DTEND;TZID=Europe/Paris:20260105T170000
DTSTAMP:20260422T014408
CREATED:20251221T101950Z
LAST-MODIFIED:20251230T054352Z
UID:9388-1767621600-1767632400@moulins-rando.fr
SUMMARY:Marche soutenue le lundi  5 janvier 2026   à  14h\, à partir de  JUSSY
DESCRIPTION:rendez-vous 14h partir du parking du lavoir
URL:https://moulins-rando.fr/event/marche-soutenue-le-lundi-5-janvier-2026-a-14h-a-partir-de-jussy/
CATEGORIES:marche soutenue
ORGANIZER;CN="SCHMITT Patrick":MAILTO:patrick.schmitt@outlook.com
END:VEVENT
BEGIN:VEVENT
DTSTART;TZID=Europe/Paris:20260107T140000
DTEND;TZID=Europe/Paris:20260107T170000
DTSTAMP:20260422T014408
CREATED:20251221T102659Z
LAST-MODIFIED:20251221T102901Z
UID:9390-1767794400-1767805200@moulins-rando.fr
SUMMARY:Marche douce le mercredi 7 janvier 2026  à 14h\, à partir de  MOULINS Saint-PIERRE
DESCRIPTION:Rendez-vous 14h Parking du Collège Louis Armand\, situé près du canal à MOULINS-SAINT-PIERRE
URL:https://moulins-rando.fr/event/marche-douce-le-mercredi-7-janvier-2026-a-14h-a-partir-de-moulins-saint-pierre/
CATEGORIES:Marche douce
ORGANIZER;CN="DO REGO Isabelle":MAILTO:manueldorego@wanadoo.fr
END:VEVENT
BEGIN:VEVENT
DTSTART;TZID=Europe/Paris:20260108T140000
DTEND;TZID=Europe/Paris:20260108T170000
DTSTAMP:20260422T014408
CREATED:20251221T103209Z
LAST-MODIFIED:20251231T173321Z
UID:9393-1767880800-1767891600@moulins-rando.fr
SUMMARY:Marche normale le jeudi 8 janvier 2026  à 14h\, à partir de NOVEANT sur MOSELLE
DESCRIPTION:rendez-vous 14h  Parking du Complexe sportif ( gymnase ) situé à droite en sortant du village de NOVEANT en direction d’Arnaville
URL:https://moulins-rando.fr/event/marche-normale-le-jeudi-8-janvier-2026-a-14h-a-partir-de-noveant-sur-moselle/
CATEGORIES:Marche normale
END:VEVENT
BEGIN:VEVENT
DTSTART;TZID=Europe/Paris:20260109T090000
DTEND;TZID=Europe/Paris:20260109T110000
DTSTAMP:20260422T014408
CREATED:20251221T103435Z
LAST-MODIFIED:20260109T073909Z
UID:9395-1767949200-1767956400@moulins-rando.fr
SUMMARY:Marche nordique le vendredi 9 janvier 2026  à 9h\, à partir de  VAUX .........(annulée )
DESCRIPTION:Marche annulée cause conditions météo\nRendez-vous 9h à VAUX.Parking des écoles en haut du village. Rue du grand Chaté
URL:https://moulins-rando.fr/event/marche-nordique-le-vendredi-9-janvier-2026-a-9h-a-partir-de-vaux/
CATEGORIES:Marche nordique
END:VEVENT
BEGIN:VEVENT
DTSTART;TZID=Europe/Paris:20260112T140000
DTEND;TZID=Europe/Paris:20260112T153000
DTSTAMP:20260422T014408
CREATED:20251221T104719Z
LAST-MODIFIED:20260109T051313Z
UID:9400-1768226400-1768231800@moulins-rando.fr
SUMMARY:Marche santé le lundi  12 janvier 2026 à 14h\, à  partir de MARLY
DESCRIPTION:rendez-vous 14h à partir  du parking Jules Ferry\, juste après le Centre Socioculturel La Louvière. En venant de Metz\, prendre à droite au 2e feu rouge. MARLY
URL:https://moulins-rando.fr/event/marche-sante-le-lundi-12-janvier-2026-a-14h-a-partir-de-marly/
CATEGORIES:Marche santé
ORGANIZER;CN="DO REGO Isabelle":MAILTO:manueldorego@wanadoo.fr
END:VEVENT
BEGIN:VEVENT
DTSTART;TZID=Europe/Paris:20260112T140000
DTEND;TZID=Europe/Paris:20260112T170000
DTSTAMP:20260422T014408
CREATED:20251221T103722Z
LAST-MODIFIED:20260109T053121Z
UID:9397-1768226400-1768237200@moulins-rando.fr
SUMMARY:Marches soutenue et rapide le lundi  12 janvier 2026  à  14h\, à partir de  SCY-CHAZELLES
DESCRIPTION:rendez-vous 14h Parking situé à proximité de la mairie et de l’église Saint-Remi de Scy-Haut.
URL:https://moulins-rando.fr/event/marches-soutenue-et-rapide-le-lundi-12-janvier-2026-a-14h-a-partir-de-scy-chazelles/
CATEGORIES:marche soutenue
END:VEVENT
BEGIN:VEVENT
DTSTART;TZID=Europe/Paris:20260114T140000
DTEND;TZID=Europe/Paris:20260114T163000
DTSTAMP:20260422T014408
CREATED:20251222T084454Z
LAST-MODIFIED:20251222T084454Z
UID:9409-1768399200-1768408200@moulins-rando.fr
SUMMARY:MARCHE NORDIQUE SPORTIVE A VAUX
DESCRIPTION:RV 14H Parking des écoles en haut du village. Rue du grand Chaté
URL:https://moulins-rando.fr/event/marche-nordique-sportive-a-vaux-2/
CATEGORIES:Marche nordique
END:VEVENT
BEGIN:VEVENT
DTSTART;TZID=Europe/Paris:20260114T140000
DTEND;TZID=Europe/Paris:20260114T170000
DTSTAMP:20260422T014408
CREATED:20251222T083957Z
LAST-MODIFIED:20251222T083957Z
UID:9407-1768399200-1768410000@moulins-rando.fr
SUMMARY:MARCHE DOUCE A NOVEANT SUR MOSELLE
DESCRIPTION:RV 14H Parking  du Complexe sportif ( gymnase )\nsitué à droite en sortant du village en direction d’Arnaville.
URL:https://moulins-rando.fr/event/marche-douce-a-noveant-sur-moselle/
CATEGORIES:Marche douce
ORGANIZER;CN="DO REGO Isabelle":MAILTO:manueldorego@wanadoo.fr
END:VEVENT
BEGIN:VEVENT
DTSTART;TZID=Europe/Paris:20260115T140000
DTEND;TZID=Europe/Paris:20260115T170000
DTSTAMP:20260422T014408
CREATED:20251222T084841Z
LAST-MODIFIED:20251222T094142Z
UID:9411-1768485600-1768496400@moulins-rando.fr
SUMMARY:JEUDI 15/01 MARCHE NORMALE A AMANVILLERS
DESCRIPTION:Attention changement de parking \nRV 14H  Parking entrée du village en venant de Châtel St Germain
URL:https://moulins-rando.fr/event/marche-normale-a-amanvillers/
CATEGORIES:Marche normale
ORGANIZER;CN="DEFEZ Mireille":MAILTO:mimidef@free.fr
END:VEVENT
BEGIN:VEVENT
DTSTART;TZID=Europe/Paris:20260116T090000
DTEND;TZID=Europe/Paris:20260116T110000
DTSTAMP:20260422T014408
CREATED:20251222T085231Z
LAST-MODIFIED:20260109T073432Z
UID:9413-1768554000-1768561200@moulins-rando.fr
SUMMARY:MARCHE NORDIQUE  DOUCE le 16 janvier 2026 à ANCY-sur-Moselle
DESCRIPTION: \n\n\n\nRendez-vous 9h ANCY-SUR-MOSELLE parking du stade\, à gauche en sortant\ndu village\, direction de Novéant ( passer sous la voie ferrée)
URL:https://moulins-rando.fr/event/marche-nordique-douce-a-amanvillers/
CATEGORIES:Marche nordique douce
END:VEVENT
BEGIN:VEVENT
DTSTART;TZID=Europe/Paris:20260118T090000
DTEND;TZID=Europe/Paris:20260118T130000
DTSTAMP:20260422T014408
CREATED:20251222T085630Z
LAST-MODIFIED:20251222T085630Z
UID:9415-1768726800-1768741200@moulins-rando.fr
SUMMARY:MARCHE DU DIMANCHE A METZ
DESCRIPTION:DEPART 9 H PARKING PISCINE LOTHAIRE METZ – BORDS DE SEILLE \nPensez à téléphoner à l’animateur
URL:https://moulins-rando.fr/event/marche-du-dimanche-a-metz/
CATEGORIES:Marche du dimanche
ORGANIZER;CN="HENRY daniel":MAILTO:danielclaudehenry@gmail.com
END:VEVENT
BEGIN:VEVENT
DTSTART;TZID=Europe/Paris:20260119T140000
DTEND;TZID=Europe/Paris:20260119T153000
DTSTAMP:20260422T014408
CREATED:20251222T090319Z
LAST-MODIFIED:20251222T090319Z
UID:9419-1768831200-1768836600@moulins-rando.fr
SUMMARY:MARCHE SANTE A METZ MAGNY
DESCRIPTION:RV 14H parking  situé rue de la Charmine à Magny.
URL:https://moulins-rando.fr/event/marche-sante-a-metz-magny/
CATEGORIES:Marche santé
ORGANIZER;CN="DO REGO Isabelle":MAILTO:manueldorego@wanadoo.fr
END:VEVENT
BEGIN:VEVENT
DTSTART;TZID=Europe/Paris:20260119T140000
DTEND;TZID=Europe/Paris:20260119T170000
DTSTAMP:20260422T014408
CREATED:20251222T090121Z
LAST-MODIFIED:20260113T165028Z
UID:9417-1768831200-1768842000@moulins-rando.fr
SUMMARY:MARCHE SOUTENUE A ANCY SUR MOSELLE
DESCRIPTION:RV 14H Parking du stade\,  à gauche en sortant\ndu village\, direction de Novéant ( passer sous la voie ferrée)
URL:https://moulins-rando.fr/event/marche-rapide-a-ancy-sur-moselle/
CATEGORIES:marche soutenue
END:VEVENT
BEGIN:VEVENT
DTSTART;TZID=Europe/Paris:20260121T140000
DTEND;TZID=Europe/Paris:20260121T170000
DTSTAMP:20260422T014408
CREATED:20251222T090507Z
LAST-MODIFIED:20251222T093802Z
UID:9421-1769004000-1769014800@moulins-rando.fr
SUMMARY:MARCHE DOUCE A JOUY AUX ARCHES
DESCRIPTION:RV 14H Parking  Centre Socioculturel\nsitué à la sortie du village direction de Corny.
URL:https://moulins-rando.fr/event/marche-douce-a-jouy-aux-arches/
CATEGORIES:Marche douce
ORGANIZER;CN="DO REGO Isabelle":MAILTO:manueldorego@wanadoo.fr
END:VEVENT
BEGIN:VEVENT
DTSTART;TZID=Europe/Paris:20260122T140000
DTEND;TZID=Europe/Paris:20260122T170000
DTSTAMP:20260422T014408
CREATED:20251222T090647Z
LAST-MODIFIED:20251222T090647Z
UID:9423-1769090400-1769101200@moulins-rando.fr
SUMMARY:MARCHE NORMALE A ARRY
DESCRIPTION:RV 14H Se garer à proximité de l’église d’Arry.
URL:https://moulins-rando.fr/event/marche-normale-a-arry/
CATEGORIES:Marche normale
END:VEVENT
BEGIN:VEVENT
DTSTART;TZID=Europe/Paris:20260123T090000
DTEND;TZID=Europe/Paris:20260123T110000
DTSTAMP:20260422T014408
CREATED:20251222T090900Z
LAST-MODIFIED:20251222T090900Z
UID:9425-1769158800-1769166000@moulins-rando.fr
SUMMARY:MARCHE NORDIQUE A ANCY SUR MOSELLE
DESCRIPTION:RV 14H Parking du stade\,  à gauche en sortant\ndu village\, direction de Novéant ( passer sous la voie ferrée)
URL:https://moulins-rando.fr/event/marche-nordique-a-ancy-sur-moselle/
CATEGORIES:Marche nordique
END:VEVENT
BEGIN:VEVENT
DTSTART;TZID=Europe/Paris:20260126T140000
DTEND;TZID=Europe/Paris:20260126T153000
DTSTAMP:20260422T014408
CREATED:20251222T091508Z
LAST-MODIFIED:20251222T091508Z
UID:9429-1769436000-1769441400@moulins-rando.fr
SUMMARY:MARCHE SANTE A ROZERIEULLES
DESCRIPTION:RV 14H Parking du Centre Socioculturel  » Le Longeau « \, à l’entrée du village.
URL:https://moulins-rando.fr/event/marche-sante-a-rozerieulles/
CATEGORIES:Marche santé
ORGANIZER;CN="DO REGO Isabelle":MAILTO:manueldorego@wanadoo.fr
END:VEVENT
BEGIN:VEVENT
DTSTART;TZID=Europe/Paris:20260126T140000
DTEND;TZID=Europe/Paris:20260126T170000
DTSTAMP:20260422T014408
CREATED:20251222T091242Z
LAST-MODIFIED:20251222T091242Z
UID:9427-1769436000-1769446800@moulins-rando.fr
SUMMARY:MARCHES SOUTENUE ET RAPIDE A VAUX
DESCRIPTION:RV 14H Parking des écoles en haut du village. Rue du grand Chaté
URL:https://moulins-rando.fr/event/marches-soutenue-et-rapide-a-vaux/
CATEGORIES:marche soutenue
END:VEVENT
BEGIN:VEVENT
DTSTART;TZID=Europe/Paris:20260128T140000
DTEND;TZID=Europe/Paris:20260128T170000
DTSTAMP:20260422T014408
CREATED:20251222T091822Z
LAST-MODIFIED:20251222T093135Z
UID:9431-1769608800-1769619600@moulins-rando.fr
SUMMARY:MARCHE DOUCE A VAUX
DESCRIPTION:RV 14H Parking des écoles en haut du village. Rue du grand Chaté
URL:https://moulins-rando.fr/event/marche-douce-a-vaux-7/
CATEGORIES:Marche douce
ORGANIZER;CN="DO REGO Isabelle":MAILTO:manueldorego@wanadoo.fr
END:VEVENT
BEGIN:VEVENT
DTSTART;TZID=Europe/Paris:20260129T140000
DTEND;TZID=Europe/Paris:20260129T170000
DTSTAMP:20260422T014408
CREATED:20251222T092146Z
LAST-MODIFIED:20251222T092146Z
UID:9433-1769695200-1769706000@moulins-rando.fr
SUMMARY:MARCHE NORMALE A METZ MAGNY
DESCRIPTION:RV 14H Parking  situé rue de la Charmine à Magny.
URL:https://moulins-rando.fr/event/marche-normale-a-metz-magny/
CATEGORIES:Marche normale
ORGANIZER;CN="BRODIER Alain":MAILTO:a.brodier@orange.fr
END:VEVENT
BEGIN:VEVENT
DTSTART;TZID=Europe/Paris:20260130T090000
DTEND;TZID=Europe/Paris:20260130T110000
DTSTAMP:20260422T014408
CREATED:20251222T092720Z
LAST-MODIFIED:20260126T095326Z
UID:9435-1769763600-1769770800@moulins-rando.fr
SUMMARY:MARCHES NORDIQUES NORMALE ET DOUCE A NOVEANT
DESCRIPTION:RV 9H Parking  du Complexe sportif ( gymnase )\nsitué à droite en sortant du village en direction d’Arnaville.
URL:https://moulins-rando.fr/event/marches-nordiques-normale-et-douce/
CATEGORIES:Marche nordique,Marche nordique douce
END:VEVENT
END:VCALENDAR