BEGIN:VCALENDAR
VERSION:2.0
PRODID:-//Moulins rando - ECPv6.14.2//NONSGML v1.0//EN
CALSCALE:GREGORIAN
METHOD:PUBLISH
X-WR-CALNAME:Moulins rando
X-ORIGINAL-URL:https://moulins-rando.fr
X-WR-CALDESC:Évènements pour Moulins rando
REFRESH-INTERVAL;VALUE=DURATION:PT1H
X-Robots-Tag:noindex
X-PUBLISHED-TTL:PT1H
BEGIN:VTIMEZONE
TZID:Europe/Paris
BEGIN:DAYLIGHT
TZOFFSETFROM:+0100
TZOFFSETTO:+0200
TZNAME:CEST
DTSTART:20250330T010000
END:DAYLIGHT
BEGIN:STANDARD
TZOFFSETFROM:+0200
TZOFFSETTO:+0100
TZNAME:CET
DTSTART:20251026T010000
END:STANDARD
END:VTIMEZONE
BEGIN:VEVENT
DTSTART;TZID=Europe/Paris:20251201T140000
DTEND;TZID=Europe/Paris:20251201T153000
DTSTAMP:20260422T033059
CREATED:20251007T082312Z
LAST-MODIFIED:20251007T082312Z
UID:9303-1764597600-1764603000@moulins-rando.fr
SUMMARY:MARCHE SANTE A PARTIR DE WAVES
DESCRIPTION:RV 14H Parking Truffaut
URL:https://moulins-rando.fr/event/marche-sante-a-partir-de-waves/
CATEGORIES:Marche santé
ORGANIZER;CN="DO REGO Isabelle":MAILTO:manueldorego@wanadoo.fr
END:VEVENT
BEGIN:VEVENT
DTSTART;TZID=Europe/Paris:20251201T140000
DTEND;TZID=Europe/Paris:20251201T170000
DTSTAMP:20260422T033059
CREATED:20251007T082050Z
LAST-MODIFIED:20251007T082050Z
UID:9301-1764597600-1764608400@moulins-rando.fr
SUMMARY:MARCHES SOUTENUE ET RAPIDE A NOVEANT SUR MOSELLE
DESCRIPTION:RV 14H  Parking  du Complexe sportif ( gymnase )\nsitué à droite en sortant du village en direction d’Arnaville.
URL:https://moulins-rando.fr/event/marches-soutenue-et-rapide-a-noveant-sur-moselle-2/
CATEGORIES:marche soutenue
END:VEVENT
BEGIN:VEVENT
DTSTART;TZID=Europe/Paris:20251203T140000
DTEND;TZID=Europe/Paris:20251203T170000
DTSTAMP:20260422T033059
CREATED:20251007T082456Z
LAST-MODIFIED:20251007T082456Z
UID:9305-1764770400-1764781200@moulins-rando.fr
SUMMARY:MARCHE DOUCE A MARLY
DESCRIPTION:RV 14H  Parking Jules Ferry\, juste après le Centre Socioculturel\nLa Louvière. En venant de Metz\, prendre à droite au 2e feu rouge.
URL:https://moulins-rando.fr/event/marche-douce-a-marly-7/
CATEGORIES:Marche douce
ORGANIZER;CN="DO REGO Isabelle":MAILTO:manueldorego@wanadoo.fr
END:VEVENT
BEGIN:VEVENT
DTSTART;TZID=Europe/Paris:20251204T140000
DTEND;TZID=Europe/Paris:20251204T170000
DTSTAMP:20260422T033059
CREATED:20251007T082650Z
LAST-MODIFIED:20251007T082650Z
UID:9307-1764856800-1764867600@moulins-rando.fr
SUMMARY:MARCHE NORMALE A PLAPPEVILLE
DESCRIPTION:RV 14H Parking du stade-marché\, rue Général Brion.
URL:https://moulins-rando.fr/event/marche-normale-a-plappeville-7/
CATEGORIES:Marche normale
ORGANIZER;CN="DURBAN alain":MAILTO:alain.durban@gmail.com
END:VEVENT
BEGIN:VEVENT
DTSTART;TZID=Europe/Paris:20251205T090000
DTEND;TZID=Europe/Paris:20251205T110000
DTSTAMP:20260422T033059
CREATED:20251007T082921Z
LAST-MODIFIED:20251007T082921Z
UID:9309-1764925200-1764932400@moulins-rando.fr
SUMMARY:MARCHE NORDIQUE A LESSY
DESCRIPTION:RV 9H PARKING PRES DU CIMETIERE ALLEE SOUVENIR Français OU PARKING MAIRIE
URL:https://moulins-rando.fr/event/marche-nordique-a-lessy-4/
CATEGORIES:Marche nordique
END:VEVENT
BEGIN:VEVENT
DTSTART;TZID=Europe/Paris:20251207T090000
DTEND;TZID=Europe/Paris:20251207T130000
DTSTAMP:20260422T033059
CREATED:20251007T083227Z
LAST-MODIFIED:20251007T083227Z
UID:9311-1765098000-1765112400@moulins-rando.fr
SUMMARY:MARCHE DU DIMANCHE A NIEDERVISSE
DESCRIPTION: LE BAN ST JEAN (mairie de Niedervisse) RDV 9H \nPensez à prevenir l’animateur
URL:https://moulins-rando.fr/event/marche-du-dimanche-a-niedervisse/
CATEGORIES:Marche du dimanche
ORGANIZER;CN="HENRY daniel":MAILTO:danielclaudehenry@gmail.com
END:VEVENT
BEGIN:VEVENT
DTSTART;TZID=Europe/Paris:20251208T140000
DTEND;TZID=Europe/Paris:20251208T153000
DTSTAMP:20260422T033059
CREATED:20251007T083944Z
LAST-MODIFIED:20251007T083944Z
UID:9315-1765202400-1765207800@moulins-rando.fr
SUMMARY:MARCHE SANTE A ROZERIEULLES
DESCRIPTION:RV 14H Parking du Centre Socioculturel  » Le Longeau « \, à l’entrée du village.
URL:https://moulins-rando.fr/event/marche-sante-a-rozerieulles-7/
CATEGORIES:Marche santé
ORGANIZER;CN="DO REGO Isabelle":MAILTO:manueldorego@wanadoo.fr
END:VEVENT
BEGIN:VEVENT
DTSTART;TZID=Europe/Paris:20251208T140000
DTEND;TZID=Europe/Paris:20251208T170000
DTSTAMP:20260422T033059
CREATED:20251007T083725Z
LAST-MODIFIED:20251007T083725Z
UID:9313-1765202400-1765213200@moulins-rando.fr
SUMMARY:MARCHES SOUTENUE ET RAPIDE A VAUX
DESCRIPTION:RV 14H Parking des écoles en haut du village. Rue du grand Chaté
URL:https://moulins-rando.fr/event/marches-soutenue-et-rapide-a-vaux-11/
CATEGORIES:marche soutenue
END:VEVENT
BEGIN:VEVENT
DTSTART;TZID=Europe/Paris:20251210T140000
DTEND;TZID=Europe/Paris:20251210T170000
DTSTAMP:20260422T033059
CREATED:20251007T084133Z
LAST-MODIFIED:20251007T084133Z
UID:9317-1765375200-1765386000@moulins-rando.fr
SUMMARY:MARCHE DOUCE A VAUX
DESCRIPTION:RV 14H Parking des écoles en haut du village. Rue du grand Chaté
URL:https://moulins-rando.fr/event/marche-douce-a-vaux-6/
CATEGORIES:Marche douce
ORGANIZER;CN="DO REGO Isabelle":MAILTO:manueldorego@wanadoo.fr
END:VEVENT
BEGIN:VEVENT
DTSTART;TZID=Europe/Paris:20251211T140000
DTEND;TZID=Europe/Paris:20251211T170000
DTSTAMP:20260422T033059
CREATED:20251007T084327Z
LAST-MODIFIED:20251202T100231Z
UID:9319-1765461600-1765472400@moulins-rando.fr
SUMMARY:Attention changement de programme et de lieu de départ. Prévue initialement à Fleury cette marche partira de Rozèrieulles
DESCRIPTION:RdV 14H Parking du Centre Socioculturel  » Le Longeau « \, à l’entrée du village. au lieu d’un départ prévu initialement  à Fleury.
URL:https://moulins-rando.fr/event/marche-normale-a-fleury-2/
CATEGORIES:Marche normale
ORGANIZER;CN="NIERSBACH Mich%C3%A8le":MAILTO:micniers@aol.com
END:VEVENT
BEGIN:VEVENT
DTSTART;TZID=Europe/Paris:20251212T090000
DTEND;TZID=Europe/Paris:20251212T110000
DTSTAMP:20260422T033059
CREATED:20251007T084547Z
LAST-MODIFIED:20251007T084547Z
UID:9321-1765530000-1765537200@moulins-rando.fr
SUMMARY:MARCHE NORDIQUE A SCY-CHAZELLES
DESCRIPTION:RV 9H Parking situé à proximité\nde la mairie et de l’église Saint-Remi de Scy-Haut.
URL:https://moulins-rando.fr/event/marche-nordique-a-scy-chazelles-6/
CATEGORIES:Marche nordique
END:VEVENT
BEGIN:VEVENT
DTSTART;TZID=Europe/Paris:20251214T090000
DTEND;TZID=Europe/Paris:20251214T130000
DTSTAMP:20260422T033059
CREATED:20251007T085109Z
LAST-MODIFIED:20251201T170046Z
UID:9323-1765702800-1765717200@moulins-rando.fr
SUMMARY:MARCHE DU DIMANCHE A LA GRANGE AUX BOIS (ANNULEE)
DESCRIPTION:Cette marche est annulée\n 
URL:https://moulins-rando.fr/event/marche-du-dimanche-a-metz-la-grange-aux-bois-1-2j-2/
CATEGORIES:Marche du dimanche
END:VEVENT
BEGIN:VEVENT
DTSTART;TZID=Europe/Paris:20251215T140000
DTEND;TZID=Europe/Paris:20251215T153000
DTSTAMP:20260422T033059
CREATED:20251008T144858Z
LAST-MODIFIED:20251008T144858Z
UID:9327-1765807200-1765812600@moulins-rando.fr
SUMMARY:MARCHE SANTE A MOULINS CENTRE
DESCRIPTION:RV 14H Parking situés à proximité des tennis de La Saussaie  au bord de la Moselle.
URL:https://moulins-rando.fr/event/marche-sante-a-moulins-centre/
CATEGORIES:Marche santé
ORGANIZER;CN="DO REGO Isabelle":MAILTO:manueldorego@wanadoo.fr
END:VEVENT
BEGIN:VEVENT
DTSTART;TZID=Europe/Paris:20251215T140000
DTEND;TZID=Europe/Paris:20251215T170000
DTSTAMP:20260422T033059
CREATED:20251008T144649Z
LAST-MODIFIED:20251008T144649Z
UID:9325-1765807200-1765818000@moulins-rando.fr
SUMMARY:MARCHES SOUTENUE ET RAPIDE A SCY-CHAZELLES
DESCRIPTION:RV 14H Parking situé à proximité\nde la mairie et de l’église Saint-Remi de Scy-Haut.
URL:https://moulins-rando.fr/event/marches-soutenue-et-rapide-a-scy-chazelles/
CATEGORIES:marche soutenue
ORGANIZER;CN="DURBAN alain":MAILTO:alain.durban@gmail.com
END:VEVENT
BEGIN:VEVENT
DTSTART;TZID=Europe/Paris:20251217T140000
DTEND;TZID=Europe/Paris:20251217T163000
DTSTAMP:20260422T033059
CREATED:20251008T150100Z
LAST-MODIFIED:20251009T083628Z
UID:9331-1765980000-1765989000@moulins-rando.fr
SUMMARY:MARCHE NORDIQUE SPORTIVE A LESSY
DESCRIPTION:RV 14H PARKING PRES DU CIMETIERE ALLEE SOUVENIR Français OU PARKING MAIRIE
URL:https://moulins-rando.fr/event/marche-nordique-sportive-a-lessy/
CATEGORIES:Marche nordique
END:VEVENT
BEGIN:VEVENT
DTSTART;TZID=Europe/Paris:20251217T140000
DTEND;TZID=Europe/Paris:20251217T170000
DTSTAMP:20260422T033059
CREATED:20251008T145031Z
LAST-MODIFIED:20251008T145031Z
UID:9329-1765980000-1765990800@moulins-rando.fr
SUMMARY:MARCHE DOUCE A MONTIGNY
DESCRIPTION:RV 14H Avenue Robert Schuman.
URL:https://moulins-rando.fr/event/marche-douce-a-montigny/
CATEGORIES:Marche douce
ORGANIZER;CN="DO REGO Isabelle":MAILTO:manueldorego@wanadoo.fr
END:VEVENT
BEGIN:VEVENT
DTSTART;TZID=Europe/Paris:20251218T140000
DTEND;TZID=Europe/Paris:20251218T163000
DTSTAMP:20260422T033059
CREATED:20251008T150933Z
LAST-MODIFIED:20251008T150933Z
UID:9333-1766066400-1766075400@moulins-rando.fr
SUMMARY:MARCHE NORMALE A MOULINS CENTRE ( vin chaud )
DESCRIPTION:ANIMATION VIN CHAUD CHÂTEAU FABERT APRES LA MARCHE ( 2 niveaux )      DEPART 14H JUSQUE 16H30 PARKING CHÂTEAU FABERT
URL:https://moulins-rando.fr/event/marche-normale-a-moulins-centre-vin-chaud/
CATEGORIES:Marche normale
ORGANIZER;CN="DEFEZ Mireille":MAILTO:mimidef@free.fr
END:VEVENT
BEGIN:VEVENT
DTSTART;TZID=Europe/Paris:20251219T090000
DTEND;TZID=Europe/Paris:20251219T110000
DTSTAMP:20260422T033059
CREATED:20251008T151120Z
LAST-MODIFIED:20251008T151120Z
UID:9335-1766134800-1766142000@moulins-rando.fr
SUMMARY:MARCHE NORDIQUE A GORZE
DESCRIPTION:RV 9H Parking des écoles à Gorze.
URL:https://moulins-rando.fr/event/marche-nordique-a-gorze/
CATEGORIES:Marche nordique
END:VEVENT
BEGIN:VEVENT
DTSTART;TZID=Europe/Paris:20251222T140000
DTEND;TZID=Europe/Paris:20251222T153000
DTSTAMP:20260422T033059
CREATED:20251008T151508Z
LAST-MODIFIED:20251008T151508Z
UID:9339-1766412000-1766417400@moulins-rando.fr
SUMMARY:MARCHE SANTE A METZ
DESCRIPTION:RV 14H Parking de la patinoire  boulevard Saint-Symphorien..
URL:https://moulins-rando.fr/event/marche-sante-a-metz/
CATEGORIES:Marche santé
ORGANIZER;CN="DO REGO Isabelle":MAILTO:manueldorego@wanadoo.fr
END:VEVENT
BEGIN:VEVENT
DTSTART;TZID=Europe/Paris:20251222T140000
DTEND;TZID=Europe/Paris:20251222T170000
DTSTAMP:20260422T033059
CREATED:20251008T151328Z
LAST-MODIFIED:20251008T151328Z
UID:9337-1766412000-1766422800@moulins-rando.fr
SUMMARY:MARCHE SOUTENUE A ARRY
DESCRIPTION:RV 14H à proximité de l’église d’Arry.
URL:https://moulins-rando.fr/event/marche-soutenue-a-arry/
CATEGORIES:marche soutenue
END:VEVENT
BEGIN:VEVENT
DTSTART;TZID=Europe/Paris:20251225T080000
DTEND;TZID=Europe/Paris:20251225T170000
DTSTAMP:20260422T033059
CREATED:20251008T151716Z
LAST-MODIFIED:20251008T152258Z
UID:9341-1766649600-1766682000@moulins-rando.fr
SUMMARY:BONNES FETES DE FIN D'ANNEE
DESCRIPTION:LES MEMBRES DU COMITE VOUS PRESENTENT LEURS MEILLEURS VOEUX \nET VOUS SOUHAITENT DE PASSER DE BONNES FETES
URL:https://moulins-rando.fr/event/bonnes-fetes-de-fin-dannee/
CATEGORIES:Manifestation festive
END:VEVENT
END:VCALENDAR