BEGIN:VCALENDAR
VERSION:2.0
PRODID:-//Moulins rando - ECPv6.14.2//NONSGML v1.0//EN
CALSCALE:GREGORIAN
METHOD:PUBLISH
X-WR-CALNAME:Moulins rando
X-ORIGINAL-URL:https://moulins-rando.fr
X-WR-CALDESC:Évènements pour Moulins rando
REFRESH-INTERVAL;VALUE=DURATION:PT1H
X-Robots-Tag:noindex
X-PUBLISHED-TTL:PT1H
BEGIN:VTIMEZONE
TZID:Europe/Paris
BEGIN:DAYLIGHT
TZOFFSETFROM:+0100
TZOFFSETTO:+0200
TZNAME:CEST
DTSTART:20250330T010000
END:DAYLIGHT
BEGIN:STANDARD
TZOFFSETFROM:+0200
TZOFFSETTO:+0100
TZNAME:CET
DTSTART:20251026T010000
END:STANDARD
END:VTIMEZONE
BEGIN:VEVENT
DTSTART;TZID=Europe/Paris:20251103T140000
DTEND;TZID=Europe/Paris:20251103T153000
DTSTAMP:20260422T070230
CREATED:20250925T162219Z
LAST-MODIFIED:20250925T162219Z
UID:9246-1762178400-1762183800@moulins-rando.fr
SUMMARY:MARCHE SANTE A JOUY AUX ARCHES
DESCRIPTION:RV 14H Parking  Centre Socioculturel\nsitué à la sortie du village direction de Corny.
URL:https://moulins-rando.fr/event/marche-sante-a-jouy-aux-arches-6/
CATEGORIES:Marche santé
ORGANIZER;CN="DO REGO Isabelle":MAILTO:manueldorego@wanadoo.fr
END:VEVENT
BEGIN:VEVENT
DTSTART;TZID=Europe/Paris:20251103T140000
DTEND;TZID=Europe/Paris:20251103T170000
DTSTAMP:20260422T070230
CREATED:20250925T162010Z
LAST-MODIFIED:20250925T162010Z
UID:9244-1762178400-1762189200@moulins-rando.fr
SUMMARY:MARCHES SOUTENUE ET RAPIDE A CHATEL ST GERMAIN
DESCRIPTION:RV 14H Parking  des Fourrières\nsitué derrière le Centre Socioculturel\, juste en face de la mairie.
URL:https://moulins-rando.fr/event/marches-soutenue-et-rapide-a-chatel-st-germain/
CATEGORIES:marche soutenue
ORGANIZER;CN="MAIRE Andr%C3%A9":MAILTO:maire.andre@orange.fr
END:VEVENT
BEGIN:VEVENT
DTSTART;TZID=Europe/Paris:20251104T143000
DTEND;TZID=Europe/Paris:20251104T160000
DTSTAMP:20260422T070230
CREATED:20250925T162927Z
LAST-MODIFIED:20250925T162927Z
UID:9248-1762266600-1762272000@moulins-rando.fr
SUMMARY:VISITE AMAZON
DESCRIPTION: VISITE SITE AMAZON AUGNY A 14 H30 \nRenseignements sur flash info pour inscription
URL:https://moulins-rando.fr/event/visite-amazon/
CATEGORIES:Voyage
END:VEVENT
BEGIN:VEVENT
DTSTART;TZID=Europe/Paris:20251105T140000
DTEND;TZID=Europe/Paris:20251105T170000
DTSTAMP:20260422T070230
CREATED:20250925T163124Z
LAST-MODIFIED:20250925T163124Z
UID:9250-1762351200-1762362000@moulins-rando.fr
SUMMARY:MARCHE DOUCE A CORNY
DESCRIPTION:RV 14H Parking de la salle des fêtes Paul GORET :\nEn venant de Metz\, Jouy-aux-arches\, rue à droite avant l’église.
URL:https://moulins-rando.fr/event/marche-douce-a-corny-3/
CATEGORIES:Marche douce
ORGANIZER;CN="DO REGO Isabelle":MAILTO:manueldorego@wanadoo.fr
END:VEVENT
BEGIN:VEVENT
DTSTART;TZID=Europe/Paris:20251106T140000
DTEND;TZID=Europe/Paris:20251106T170000
DTSTAMP:20260422T070230
CREATED:20250925T163308Z
LAST-MODIFIED:20250925T163308Z
UID:9252-1762437600-1762448400@moulins-rando.fr
SUMMARY:MARCHE NORMALE A ANCY SUR MOSELLE
DESCRIPTION:RV 14 H Parking du stade\,  à gauche en sortant\ndu village\, direction de Novéant ( passer sous la voie ferrée)
URL:https://moulins-rando.fr/event/marche-normale-a-ancy-sur-moselle/
CATEGORIES:Marche normale
END:VEVENT
BEGIN:VEVENT
DTSTART;TZID=Europe/Paris:20251107T090000
DTEND;TZID=Europe/Paris:20251107T110000
DTSTAMP:20260422T070230
CREATED:20250925T163525Z
LAST-MODIFIED:20250925T163525Z
UID:9254-1762506000-1762513200@moulins-rando.fr
SUMMARY:MARCHE NORDIQUE A MOULINS ST PIERRE
DESCRIPTION:RV 9H Parking du Collège Louis Armand\, situé près du canal.
URL:https://moulins-rando.fr/event/marche-nordique-a-moulins-st-pierre-3/
CATEGORIES:Marche nordique
ORGANIZER;CN="JABLONKA Henri":MAILTO:henri.jablonka@numericable.com
END:VEVENT
BEGIN:VEVENT
DTSTART;TZID=Europe/Paris:20251109T090000
DTEND;TZID=Europe/Paris:20251109T130000
DTSTAMP:20260422T070230
CREATED:20250925T163813Z
LAST-MODIFIED:20251106T091109Z
UID:9256-1762678800-1762693200@moulins-rando.fr
SUMMARY:MARCHE DU DIMANCHE A METZ CHAMBIERES( lieu de départ changé )
DESCRIPTION:RV 9h  parking public de l’Ile du Saulcy (au fond\, sous le pont autoroutier près du bâtiment « Faculté de Droit Economie et Administration » \nPrévenir l’animateur
URL:https://moulins-rando.fr/event/marche-du-dimanche-a-metz-chambieres/
CATEGORIES:Marche du dimanche
ORGANIZER;CN="HENRY daniel":MAILTO:danielclaudehenry@gmail.com
END:VEVENT
BEGIN:VEVENT
DTSTART;TZID=Europe/Paris:20251110T140000
DTEND;TZID=Europe/Paris:20251110T153000
DTSTAMP:20260422T070230
CREATED:20250926T091201Z
LAST-MODIFIED:20250926T091201Z
UID:9260-1762783200-1762788600@moulins-rando.fr
SUMMARY:MARCHE SANTE A METZ MAGNY
DESCRIPTION:RV 14H Parking  situé rue de la Charmine à Magny.
URL:https://moulins-rando.fr/event/marche-sante-a-metz-magny-5/
CATEGORIES:Marche santé
ORGANIZER;CN="DO REGO Isabelle":MAILTO:manueldorego@wanadoo.fr
END:VEVENT
BEGIN:VEVENT
DTSTART;TZID=Europe/Paris:20251110T140000
DTEND;TZID=Europe/Paris:20251110T170000
DTSTAMP:20260422T070230
CREATED:20250926T091015Z
LAST-MODIFIED:20250926T091015Z
UID:9258-1762783200-1762794000@moulins-rando.fr
SUMMARY:MARCHES SOUTENUE ET RAPIDE A SCY-CHAZELLES
DESCRIPTION:RV 14H  Parking situé à proximité\nde la mairie et de l’église Saint-Remi de Scy-Haut.
URL:https://moulins-rando.fr/event/marches-soutenue-et-rapide-a-scy-chazelles-6/
CATEGORIES:marche soutenue
ORGANIZER;CN="MAIRE Andr%C3%A9":MAILTO:maire.andre@orange.fr
END:VEVENT
BEGIN:VEVENT
DTSTART;TZID=Europe/Paris:20251112T140000
DTEND;TZID=Europe/Paris:20251112T170000
DTSTAMP:20260422T070230
CREATED:20250926T091402Z
LAST-MODIFIED:20250926T091402Z
UID:9262-1762956000-1762966800@moulins-rando.fr
SUMMARY:MARCHE DOUCE A NOVEANT SUR MOSELLE
DESCRIPTION:RV 14H Parking  du Complexe sportif ( gymnase )\nsitué à droite en sortant du village en direction d’Arnaville.
URL:https://moulins-rando.fr/event/marche-douce-a-noveant-sur-moselle-2/
CATEGORIES:Marche douce
ORGANIZER;CN="DO REGO Isabelle":MAILTO:manueldorego@wanadoo.fr
END:VEVENT
BEGIN:VEVENT
DTSTART;TZID=Europe/Paris:20251113T140000
DTEND;TZID=Europe/Paris:20251113T170000
DTSTAMP:20260422T070230
CREATED:20250926T091550Z
LAST-MODIFIED:20251011T075718Z
UID:9264-1763042400-1763053200@moulins-rando.fr
SUMMARY:MARCHE NORMALE A PELTRE
DESCRIPTION:RV 14H Rue des Vignes\,\n1ère à gauche après l’église en venant de Metz-Magny.
URL:https://moulins-rando.fr/event/marche-normale-a-peltre-3/
CATEGORIES:Marche normale
ORGANIZER;CN="DURBAN alain":MAILTO:alain.durban@gmail.com
END:VEVENT
BEGIN:VEVENT
DTSTART;TZID=Europe/Paris:20251114T090000
DTEND;TZID=Europe/Paris:20251114T110000
DTSTAMP:20260422T070230
CREATED:20250926T091740Z
LAST-MODIFIED:20250926T091740Z
UID:9266-1763110800-1763118000@moulins-rando.fr
SUMMARY:MARCHE NORDIQUE A ANCY SUR MOSELLE
DESCRIPTION:RV 9H Parking du stade\,  à gauche en sortant\ndu village\, direction de Novéant ( passer sous la voie ferrée)
URL:https://moulins-rando.fr/event/marche-nordique-a-ancy-sur-moselle-2/
CATEGORIES:Marche nordique
END:VEVENT
BEGIN:VEVENT
DTSTART;TZID=Europe/Paris:20251116T090000
DTEND;TZID=Europe/Paris:20251116T130000
DTSTAMP:20260422T070230
CREATED:20250926T092141Z
LAST-MODIFIED:20251011T075013Z
UID:9268-1763283600-1763298000@moulins-rando.fr
SUMMARY:MARCHE DU DIMANCHE A JOUY AUX ARCHES 1/2j
DESCRIPTION:RV 9H Parking  Centre Socioculturel\nsitué à la sortie du village direction de Corny.\n\n\n\nPrévenir l’animatrice
URL:https://moulins-rando.fr/event/marche-du-dimanche-a-courcelles-chaussy-1-2j/
CATEGORIES:Marche du dimanche
ORGANIZER;CN="LETZELTER Gis%C3%A8le":MAILTO:giletz@orange.fr
END:VEVENT
BEGIN:VEVENT
DTSTART;TZID=Europe/Paris:20251117T140000
DTEND;TZID=Europe/Paris:20251117T153000
DTSTAMP:20260422T070230
CREATED:20250926T092601Z
LAST-MODIFIED:20250926T092601Z
UID:9272-1763388000-1763393400@moulins-rando.fr
SUMMARY:MARCHE SANTE A MONTIGNY
DESCRIPTION:RV 14H Avenue Robert Schuman.
URL:https://moulins-rando.fr/event/marche-sante-a-montigny-4/
CATEGORIES:Marche santé
ORGANIZER;CN="DO REGO Isabelle":MAILTO:manueldorego@wanadoo.fr
END:VEVENT
BEGIN:VEVENT
DTSTART;TZID=Europe/Paris:20251117T140000
DTEND;TZID=Europe/Paris:20251117T170000
DTSTAMP:20260422T070230
CREATED:20250926T092409Z
LAST-MODIFIED:20250926T092409Z
UID:9270-1763388000-1763398800@moulins-rando.fr
SUMMARY:MARCHES RAPIDE ET SOUTENUE A ROZERIEULLES
DESCRIPTION:RV 14H Parking du Centre Socioculturel  » Le Longeau « \, à l’entrée du village.
URL:https://moulins-rando.fr/event/marches-rapide-et-soutenue-a-rozerieulles/
CATEGORIES:marche soutenue
END:VEVENT
BEGIN:VEVENT
DTSTART;TZID=Europe/Paris:20251119T140000
DTEND;TZID=Europe/Paris:20251119T170000
DTSTAMP:20260422T070230
CREATED:20250926T092753Z
LAST-MODIFIED:20250926T092753Z
UID:9274-1763560800-1763571600@moulins-rando.fr
SUMMARY:MARCHE DOUCE A MOULINS CENTRE
DESCRIPTION:RV 14H Parking  du Presbytère\, rue des Moulins\, en face du Château Fabert.
URL:https://moulins-rando.fr/event/marche-douce-a-moulins-centre-3/
CATEGORIES:Marche douce
ORGANIZER;CN="DO REGO Isabelle":MAILTO:manueldorego@wanadoo.fr
END:VEVENT
BEGIN:VEVENT
DTSTART;TZID=Europe/Paris:20251120T140000
DTEND;TZID=Europe/Paris:20251120T170000
DTSTAMP:20260422T070230
CREATED:20250926T092959Z
LAST-MODIFIED:20250926T092959Z
UID:9276-1763647200-1763658000@moulins-rando.fr
SUMMARY:MARCHE NORMALE A AMANVILLERS
DESCRIPTION:RV 14H Changement : Parking entrée du village en venant de Châtel St Germain
URL:https://moulins-rando.fr/event/marche-normale-a-amanvillers-6/
CATEGORIES:Marche normale
ORGANIZER;CN="DEFEZ Mireille":MAILTO:mimidef@free.fr
END:VEVENT
BEGIN:VEVENT
DTSTART;TZID=Europe/Paris:20251121T090000
DTEND;TZID=Europe/Paris:20251121T110000
DTSTAMP:20260422T070230
CREATED:20250926T093228Z
LAST-MODIFIED:20250926T093228Z
UID:9278-1763715600-1763722800@moulins-rando.fr
SUMMARY:MARCHE NORDIQUE A LESSY
DESCRIPTION:RV 9H PARKING PRES DU CIMETIERE ALLEE SOUVENIR Français OU PARKING MAIRIE
URL:https://moulins-rando.fr/event/marche-nordique-a-lessy-3/
CATEGORIES:Marche nordique
END:VEVENT
BEGIN:VEVENT
DTSTART;TZID=Europe/Paris:20251123T090000
DTEND;TZID=Europe/Paris:20251123T130000
DTSTAMP:20260422T070230
CREATED:20250926T093605Z
LAST-MODIFIED:20250926T093605Z
UID:9280-1763888400-1763902800@moulins-rando.fr
SUMMARY:MARCHE DU DIMANCHE A ROZERIEULLES 1/2j
DESCRIPTION:RV 9H PARKING CENTRE SOCIO CULTUREL LE LONGEAU ENTREE DU VILLAGE 9\,5km \nPrévenir l’animatrice
URL:https://moulins-rando.fr/event/marche-du-dimanche-a-rozerieulles-1-2j/
CATEGORIES:Marche du dimanche
ORGANIZER;CN="LETZELTER Gis%C3%A8le":MAILTO:giletz@orange.fr
END:VEVENT
BEGIN:VEVENT
DTSTART;TZID=Europe/Paris:20251124T140000
DTEND;TZID=Europe/Paris:20251124T153000
DTSTAMP:20260422T070230
CREATED:20250926T142913Z
LAST-MODIFIED:20250926T142913Z
UID:9284-1763992800-1763998200@moulins-rando.fr
SUMMARY:MARCHE SANTE A AUGNY
DESCRIPTION:RV 14H Parking de la  Salle des Fêtes à AUGNY.
URL:https://moulins-rando.fr/event/marche-sante-a-augny-4/
CATEGORIES:Marche santé
ORGANIZER;CN="DO REGO Isabelle":MAILTO:manueldorego@wanadoo.fr
END:VEVENT
BEGIN:VEVENT
DTSTART;TZID=Europe/Paris:20251124T140000
DTEND;TZID=Europe/Paris:20251124T170000
DTSTAMP:20260422T070230
CREATED:20250926T142725Z
LAST-MODIFIED:20250926T142725Z
UID:9282-1763992800-1764003600@moulins-rando.fr
SUMMARY:MARCHE SOUTENUE A NORROY LE VENEUR
DESCRIPTION:RV 14H Parking salle polyvalente sur RD 50 à l’entrée du village.
URL:https://moulins-rando.fr/event/marche-soutenue-a-norroy-le-veneur-2/
CATEGORIES:marche soutenue
END:VEVENT
BEGIN:VEVENT
DTSTART;TZID=Europe/Paris:20251126T140000
DTEND;TZID=Europe/Paris:20251126T163000
DTSTAMP:20260422T070230
CREATED:20250926T143509Z
LAST-MODIFIED:20250926T143509Z
UID:9288-1764165600-1764174600@moulins-rando.fr
SUMMARY:MARCHE NORDIQUE SPORTIVE A ARS SUR MOSELLE
DESCRIPTION:RV 14H Parking situé prés de la gare d’Ars.
URL:https://moulins-rando.fr/event/marche-nordique-sportive-a-ars-sur-moselle/
CATEGORIES:Marche nordique
END:VEVENT
BEGIN:VEVENT
DTSTART;TZID=Europe/Paris:20251126T140000
DTEND;TZID=Europe/Paris:20251126T170000
DTSTAMP:20260422T070230
CREATED:20250926T143059Z
LAST-MODIFIED:20250926T143059Z
UID:9286-1764165600-1764176400@moulins-rando.fr
SUMMARY:MARCHE DOUCE A MOULINS ST PIERRE
DESCRIPTION:RV 14H Parking du Collège Louis Armand\, situé près du canal.
URL:https://moulins-rando.fr/event/marche-douce-a-moulins-st-pierre-6/
CATEGORIES:Marche douce
ORGANIZER;CN="DO REGO Isabelle":MAILTO:manueldorego@wanadoo.fr
END:VEVENT
BEGIN:VEVENT
DTSTART;TZID=Europe/Paris:20251127T140000
DTEND;TZID=Europe/Paris:20251127T170000
DTSTAMP:20260422T070230
CREATED:20250926T143652Z
LAST-MODIFIED:20251011T075852Z
UID:9290-1764252000-1764262800@moulins-rando.fr
SUMMARY:MARCHE NORMALE A COLLIGNY
DESCRIPTION:RV 14H Parking City Stade 10 Chemin de Villers
URL:https://moulins-rando.fr/event/marche-normale-a-colligny/
CATEGORIES:Marche normale
ORGANIZER;CN="MAIRE Andr%C3%A9":MAILTO:maire.andre@orange.fr
END:VEVENT
BEGIN:VEVENT
DTSTART;TZID=Europe/Paris:20251128T090000
DTEND;TZID=Europe/Paris:20251128T110000
DTSTAMP:20260422T070230
CREATED:20250926T143839Z
LAST-MODIFIED:20250926T143839Z
UID:9292-1764320400-1764327600@moulins-rando.fr
SUMMARY:MARCHE NORDIQUE A CHATEL ST GERMAIN
DESCRIPTION:RV 9H Parking  des Fourrières\nsitué derrière le Centre Socioculturel\, juste en face de la mairie.
URL:https://moulins-rando.fr/event/marche-nordique-a-chatel-st-germain-11/
CATEGORIES:Marche nordique
END:VEVENT
BEGIN:VEVENT
DTSTART;TZID=Europe/Paris:20251130T090000
DTEND;TZID=Europe/Paris:20251130T130000
DTSTAMP:20260422T070230
CREATED:20250926T144145Z
LAST-MODIFIED:20250926T144145Z
UID:9294-1764493200-1764507600@moulins-rando.fr
SUMMARY:MARCHE DU DIMANCHE A NOVEANT 1/2j
DESCRIPTION:NOVEANT DEPART 9 H PARKING GYMNASE 10\,65 KMS \nPensez à prévenir l’animatrice
URL:https://moulins-rando.fr/event/marche-du-dimanche-a-noveant-1-2j/
CATEGORIES:Marche du dimanche
ORGANIZER;CN="LETZELTER Gis%C3%A8le":MAILTO:giletz@orange.fr
END:VEVENT
END:VCALENDAR