BEGIN:VCALENDAR
VERSION:2.0
PRODID:-//Moulins rando - ECPv6.14.2//NONSGML v1.0//EN
CALSCALE:GREGORIAN
METHOD:PUBLISH
X-WR-CALNAME:Moulins rando
X-ORIGINAL-URL:https://moulins-rando.fr
X-WR-CALDESC:Évènements pour Moulins rando
REFRESH-INTERVAL;VALUE=DURATION:PT1H
X-Robots-Tag:noindex
X-PUBLISHED-TTL:PT1H
BEGIN:VTIMEZONE
TZID:Europe/Paris
BEGIN:DAYLIGHT
TZOFFSETFROM:+0100
TZOFFSETTO:+0200
TZNAME:CEST
DTSTART:20250330T010000
END:DAYLIGHT
BEGIN:STANDARD
TZOFFSETFROM:+0200
TZOFFSETTO:+0100
TZNAME:CET
DTSTART:20251026T010000
END:STANDARD
END:VTIMEZONE
BEGIN:VEVENT
DTSTART;TZID=Europe/Paris:20250914T090000
DTEND;TZID=Europe/Paris:20250914T170000
DTSTAMP:20260422T103118
CREATED:20250717T094405Z
LAST-MODIFIED:20250717T094405Z
UID:9106-1757840400-1757869200@moulins-rando.fr
SUMMARY:Marche du dimanche 14 septembre à la journée\, départ à  9h\,  à partir de   METZ  repas tiré du sac    pensez à prévenir l'animateur de votre participation
DESCRIPTION:PETIT TOUR DE METZ 18 KMS JOURNEE REPAS TIRE DU SAC DPT GRANGE AUX BOIS PARKING CRECHE MULTI ACCUEIL ROUTE ARS LAQUENEXY
URL:https://moulins-rando.fr/event/marche-du-dimanche-14-septembre-a-la-journee-depart-a-9h-a-partir-de-metz-repas-tire-du-sac-pensez-a-prevenir-lanimateur-de-votre-participation/
CATEGORIES:Marche du dimanche
END:VEVENT
BEGIN:VEVENT
DTSTART;TZID=Europe/Paris:20250915T140000
DTEND;TZID=Europe/Paris:20250915T153000
DTSTAMP:20260422T103118
CREATED:20250717T094817Z
LAST-MODIFIED:20250717T094817Z
UID:9110-1757944800-1757950200@moulins-rando.fr
SUMMARY:Marche santé le lundi  15 septembre à 14h\, à  partir de AUGNY
DESCRIPTION:AUGNY. Parking de la Salle des Fêtes à AUGNY.
URL:https://moulins-rando.fr/event/marche-sante-le-lundi-15-septembre-a-14h-a-partir-de-augny/
CATEGORIES:Marche santé
ORGANIZER;CN="DO REGO Isabelle":MAILTO:manueldorego@wanadoo.fr
END:VEVENT
BEGIN:VEVENT
DTSTART;TZID=Europe/Paris:20250915T140000
DTEND;TZID=Europe/Paris:20250915T170000
DTSTAMP:20260422T103118
CREATED:20250717T094615Z
LAST-MODIFIED:20250825T091730Z
UID:9108-1757944800-1757955600@moulins-rando.fr
SUMMARY:Marches soutenue et rapide le lundi  15 septembre  à  14h\, à partir de  ARS sur MOSELLE
DESCRIPTION:ARS sur MOSELLE.Parking situé prés de la gare d’Ars.
URL:https://moulins-rando.fr/event/marches-soutenue-et-rapide-le-lundi-15-septembre-a-9h-a-partir-de-ars-sur-moselle/
CATEGORIES:marche soutenue
END:VEVENT
BEGIN:VEVENT
DTSTART;TZID=Europe/Paris:20250917T140000
DTEND;TZID=Europe/Paris:20250917T170000
DTSTAMP:20260422T103118
CREATED:20250717T095037Z
LAST-MODIFIED:20250717T095037Z
UID:9112-1758117600-1758128400@moulins-rando.fr
SUMMARY:Marche douce le mercredi 17 septembre  à 14h\, à partir de  MOULINS-CENTRE
DESCRIPTION:MOULINS-CENTRE. Parking situés à proximité des tennis de La Saussaie au bord de la Moselle.
URL:https://moulins-rando.fr/event/marche-douce-le-mercredi-17-septembre-a-14h-a-partir-de-moulins-centre/
CATEGORIES:Marche douce
ORGANIZER;CN="VILMIN Raymonde":MAILTO:raymondevilmin@gmail.com
END:VEVENT
BEGIN:VEVENT
DTSTART;TZID=Europe/Paris:20250918T140000
DTEND;TZID=Europe/Paris:20250918T170000
DTSTAMP:20260422T103118
CREATED:20250717T095254Z
LAST-MODIFIED:20250825T091118Z
UID:9114-1758204000-1758214800@moulins-rando.fr
SUMMARY:Marche normale le jeudi  18 septembre à 14h\, à partir de SCY-CHAZELLES
DESCRIPTION:SCY-CHAZELLES. Parking situé à proximité de la mairie et de l’église Saint-Remi de Scy-Haut.
URL:https://moulins-rando.fr/event/marche-normale-le-jeudi-18-septembre-a-9h-a-partir-de-scy-chazelles/
CATEGORIES:Marche normale
ORGANIZER;CN="MAIRE Andr%C3%A9":MAILTO:maire.andre@orange.fr
END:VEVENT
BEGIN:VEVENT
DTSTART;TZID=Europe/Paris:20250919T090000
DTEND;TZID=Europe/Paris:20250919T110000
DTSTAMP:20260422T103118
CREATED:20250717T095554Z
LAST-MODIFIED:20250717T095652Z
UID:9116-1758272400-1758279600@moulins-rando.fr
SUMMARY:Marche nordique le vendredi 19 septembre  à 9h\, à partir de  ARS sur MOSELLE
DESCRIPTION:ARS sur MOSELLE.Parking situé prés de la gare d’Ars.
URL:https://moulins-rando.fr/event/marche-nordique-le-vendredi-19-septembre-a-9h-a-partir-de-ars-sur-moselle/
CATEGORIES:Marche nordique
END:VEVENT
BEGIN:VEVENT
DTSTART;TZID=Europe/Paris:20250922T140000
DTEND;TZID=Europe/Paris:20250922T153000
DTSTAMP:20260422T103118
CREATED:20250719T050608Z
LAST-MODIFIED:20250719T050608Z
UID:9122-1758549600-1758555000@moulins-rando.fr
SUMMARY:Marche santé le lundi  22 septembre  à 14h\, à  partir de METZ - MAGNY
DESCRIPTION:METZ – MAGNY.Parking situé rue de la Charmine à Magny
URL:https://moulins-rando.fr/event/marche-sante-le-lundi-22-septembre-a-14h-a-partir-de-metz-magny/
CATEGORIES:Marche santé
ORGANIZER;CN="DO REGO Isabelle":MAILTO:manueldorego@wanadoo.fr
END:VEVENT
BEGIN:VEVENT
DTSTART;TZID=Europe/Paris:20250922T140000
DTEND;TZID=Europe/Paris:20250922T170000
DTSTAMP:20260422T103118
CREATED:20250719T050353Z
LAST-MODIFIED:20250825T091845Z
UID:9120-1758549600-1758560400@moulins-rando.fr
SUMMARY:Marches soutenue et rapide le lundi   22 septembre  à  14h\, à partir de  NOVEANT
DESCRIPTION:NOVEANT-SUR-MOSELLE. Parking du Complexe sportif ( gymnase ) situé à droite en sortant du village en direction d’Arnaville.
URL:https://moulins-rando.fr/event/marches-soutenue-et-rapide-le-lundi-22-septembre-a-9h-a-partir-de-noveant/
CATEGORIES:marche soutenue
END:VEVENT
BEGIN:VEVENT
DTSTART;TZID=Europe/Paris:20250924T140000
DTEND;TZID=Europe/Paris:20250924T170000
DTSTAMP:20260422T103118
CREATED:20250719T050824Z
LAST-MODIFIED:20250825T092011Z
UID:9124-1758722400-1758733200@moulins-rando.fr
SUMMARY:Marche douce le mercredi 24 septembre   à 14h\, à partir de  ARS-sur MOSELLE
DESCRIPTION:ARS sur MOSELLE.Parking situé prés de la gare d’Ars.
URL:https://moulins-rando.fr/event/marche-douce-le-mercredi-23-septembre-a-14h-a-partir-de-ars-sur-moselle/
CATEGORIES:Marche douce
ORGANIZER;CN="VILMIN Raymonde":MAILTO:raymondevilmin@gmail.com
END:VEVENT
BEGIN:VEVENT
DTSTART;TZID=Europe/Paris:20250925T140000
DTEND;TZID=Europe/Paris:20250925T170000
DTSTAMP:20260422T103118
CREATED:20250719T051134Z
LAST-MODIFIED:20250825T091202Z
UID:9126-1758808800-1758819600@moulins-rando.fr
SUMMARY:Marche normale le jeudi 25 septembre  à 14h\, à partir de ROZERIEULLE
DESCRIPTION:ROZERIEULLESParking du Centre Socioculturel  » Le Longeau « \, à l’entrée du village.
URL:https://moulins-rando.fr/event/marche-normale-le-jeudi-25-septembre-a-9h-a-partir-de-rozerieulle/
CATEGORIES:Marche normale
ORGANIZER;CN="NIERSBACH Mich%C3%A8le":MAILTO:micniers@aol.com
END:VEVENT
BEGIN:VEVENT
DTSTART;TZID=Europe/Paris:20250926T090000
DTEND;TZID=Europe/Paris:20250926T110000
DTSTAMP:20260422T103118
CREATED:20250719T051339Z
LAST-MODIFIED:20250719T051339Z
UID:9128-1758877200-1758884400@moulins-rando.fr
SUMMARY:Marche nordique le vendredi 26 septembre  à 9h\, à partir de  CHATEL-SAINT-GERMAIN
DESCRIPTION:CHATEL-SAINT-GERMAIN Parking des Fourrières situé derrière le Centre Socioculturel\, juste en face de la mairie.
URL:https://moulins-rando.fr/event/marche-nordique-le-vendredi-26-septembre-a-9h-a-partir-de-chatel-saint-germain/
CATEGORIES:Marche nordique
ORGANIZER;CN="JABLONKA Henri":MAILTO:henri.jablonka@numericable.com
END:VEVENT
BEGIN:VEVENT
DTSTART;TZID=Europe/Paris:20250928T090000
DTEND;TZID=Europe/Paris:20250928T123000
DTSTAMP:20260422T103118
CREATED:20250719T051643Z
LAST-MODIFIED:20250719T052456Z
UID:9130-1759050000-1759062600@moulins-rando.fr
SUMMARY:Marche du dimanche 28 septembre à la demi- journée\, départ à  9h à partir de VAUX - pensez à prévenir l'animateur de votre participation
DESCRIPTION:VAUX 12 KMS 1/2 J DEPART RUE DU GRAND CHATE PARKING DES ECOLES EN HAUT DU VILLAGE
URL:https://moulins-rando.fr/event/marche-du-dimanche-28-septembre-a-la-demi-journee-depart-a-9h-a-partir-de-vaux-pensez-a-prevenir-lanimateur-de-votre-participation/
CATEGORIES:Marche du dimanche
ORGANIZER;CN="LETZELTER Gis%C3%A8le":MAILTO:giletz@orange.fr
END:VEVENT
BEGIN:VEVENT
DTSTART;TZID=Europe/Paris:20250929T140000
DTEND;TZID=Europe/Paris:20250929T153000
DTSTAMP:20260422T103119
CREATED:20250719T052139Z
LAST-MODIFIED:20250719T052139Z
UID:9134-1759154400-1759159800@moulins-rando.fr
SUMMARY:Marche santé le lundi 29 septembre  à 14h\, à  partir de MARLY
DESCRIPTION:MARLY. Parking Jules Ferry\, juste après le Centre Socioculturel La Louvière. En venant de Metz\, prendre à droite au 2e feu rouge.
URL:https://moulins-rando.fr/event/marche-sante-le-lundi-29-septembre-a-14h-a-partir-de-marly/
CATEGORIES:Marche santé
ORGANIZER;CN="DO REGO Isabelle":MAILTO:manueldorego@wanadoo.fr
END:VEVENT
BEGIN:VEVENT
DTSTART;TZID=Europe/Paris:20250929T140000
DTEND;TZID=Europe/Paris:20250929T170000
DTSTAMP:20260422T103119
CREATED:20250719T051912Z
LAST-MODIFIED:20250825T092115Z
UID:9132-1759154400-1759165200@moulins-rando.fr
SUMMARY:Marches soutenue et rapide le lundi  29 septembre   à  14h\, à partir de  GORZE
DESCRIPTION:GORZEParking des écoles à Gorze.
URL:https://moulins-rando.fr/event/marches-soutenue-et-rapide-le-lundi-29-septembre-a-9h-a-partir-de-gorze/
CATEGORIES:marche soutenue
END:VEVENT
END:VCALENDAR