BEGIN:VCALENDAR
VERSION:2.0
PRODID:-//Moulins rando - ECPv6.14.2//NONSGML v1.0//EN
CALSCALE:GREGORIAN
METHOD:PUBLISH
X-WR-CALNAME:Moulins rando
X-ORIGINAL-URL:https://moulins-rando.fr
X-WR-CALDESC:Évènements pour Moulins rando
REFRESH-INTERVAL;VALUE=DURATION:PT1H
X-Robots-Tag:noindex
X-PUBLISHED-TTL:PT1H
BEGIN:VTIMEZONE
TZID:Europe/Paris
BEGIN:DAYLIGHT
TZOFFSETFROM:+0100
TZOFFSETTO:+0200
TZNAME:CEST
DTSTART:20250330T010000
END:DAYLIGHT
BEGIN:STANDARD
TZOFFSETFROM:+0200
TZOFFSETTO:+0100
TZNAME:CET
DTSTART:20251026T010000
END:STANDARD
END:VTIMEZONE
BEGIN:VEVENT
DTSTART;TZID=Europe/Paris:20250501T090000
DTEND;TZID=Europe/Paris:20250501T130000
DTSTAMP:20260424T215526
CREATED:20250328T093924Z
LAST-MODIFIED:20250328T093924Z
UID:8805-1746090000-1746104400@moulins-rando.fr
SUMMARY:MARCHE NORMALE ( LA MONTIGNIENNE )
DESCRIPTION:LA MONTIGNIENNE RV 9H BOULODROME STADE DU CANAL A MONTIGNY
URL:https://moulins-rando.fr/event/marche-normale-la-montignienne/
CATEGORIES:Marche normale
END:VEVENT
BEGIN:VEVENT
DTSTART;TZID=Europe/Paris:20250502T090000
DTEND;TZID=Europe/Paris:20250502T110000
DTSTAMP:20260424T215526
CREATED:20250328T094131Z
LAST-MODIFIED:20250328T094131Z
UID:8807-1746176400-1746183600@moulins-rando.fr
SUMMARY:MARCHE NORDIQUE A ANCY/MOSELLE
DESCRIPTION:RV 9H  Parking du stade\,  à gauche en sortant\ndu village\, direction de Novéant ( passer sous la voie ferrée)
URL:https://moulins-rando.fr/event/marche-nordique-a-ancy-moselle-5/
CATEGORIES:Marche nordique
END:VEVENT
BEGIN:VEVENT
DTSTART;TZID=Europe/Paris:20250504T090000
DTEND;TZID=Europe/Paris:20250504T130000
DTSTAMP:20260424T215526
CREATED:20250328T094415Z
LAST-MODIFIED:20250502T134528Z
UID:8809-1746349200-1746363600@moulins-rando.fr
SUMMARY:MARCHE DU DIMANCHE A JARNY
DESCRIPTION:JARNY DEPART 9H ESPACE RACHEL FOGLIA 37 RUE DES ECOLES 12 KMS \nPensez à téléphoner à l’animatrice.
URL:https://moulins-rando.fr/event/marche-du-dimanche-a-jarny/
CATEGORIES:Marche du dimanche
ORGANIZER;CN="LETZELTER Gis%C3%A8le":MAILTO:giletz@orange.fr
END:VEVENT
BEGIN:VEVENT
DTSTART;TZID=Europe/Paris:20250505T140000
DTEND;TZID=Europe/Paris:20250505T153000
DTSTAMP:20260424T215526
CREATED:20250328T094816Z
LAST-MODIFIED:20250328T094816Z
UID:8813-1746453600-1746459000@moulins-rando.fr
SUMMARY:MARCHE SANTE A CHATEL ST GERMAIN
DESCRIPTION:RV 14H Parking  des Fourrières\nsitué derrière le Centre Socioculturel\, juste en face de la mairie.
URL:https://moulins-rando.fr/event/marche-sante-a-chatel-st-germain-5/
CATEGORIES:Marche santé
ORGANIZER;CN="DO REGO Isabelle":MAILTO:manueldorego@wanadoo.fr
END:VEVENT
BEGIN:VEVENT
DTSTART;TZID=Europe/Paris:20250505T140000
DTEND;TZID=Europe/Paris:20250505T170000
DTSTAMP:20260424T215526
CREATED:20250328T094625Z
LAST-MODIFIED:20250328T094625Z
UID:8811-1746453600-1746464400@moulins-rando.fr
SUMMARY:MARCHE SOUTENUE A NORROY LE VENEUR
DESCRIPTION:RV 14H salle polyvalente sur RD 50 à l’entrée du village
URL:https://moulins-rando.fr/event/marche-soutenue-a-norroy-le-veneur/
CATEGORIES:marche soutenue
ORGANIZER;CN="DURBAN alain":MAILTO:alain.durban@gmail.com
END:VEVENT
BEGIN:VEVENT
DTSTART;TZID=Europe/Paris:20250508T090000
DTEND;TZID=Europe/Paris:20250508T130000
DTSTAMP:20260424T215526
CREATED:20250328T095253Z
LAST-MODIFIED:20250328T095253Z
UID:8817-1746694800-1746709200@moulins-rando.fr
SUMMARY:MARCHE POPULAIRE A SAULNY
DESCRIPTION:RV 9H SALLE POLYVALENTE
URL:https://moulins-rando.fr/event/marche-populaire-a-saulny/
CATEGORIES:Marche normale
ORGANIZER;CN="LETZELTER Gis%C3%A8le":MAILTO:giletz@orange.fr
END:VEVENT
BEGIN:VEVENT
DTSTART;TZID=Europe/Paris:20250509T090000
DTEND;TZID=Europe/Paris:20250509T110000
DTSTAMP:20260424T215526
CREATED:20250328T095514Z
LAST-MODIFIED:20250328T095514Z
UID:8819-1746781200-1746788400@moulins-rando.fr
SUMMARY:MARCHE NORDIQUE A NOVEANT/MOSELLE
DESCRIPTION:RV 9H  Parking  du Complexe sportif ( gymnase )\nsitué à droite en sortant du village en direction d’Arnaville.
URL:https://moulins-rando.fr/event/marche-nordique-a-noveant-moselle-6/
CATEGORIES:Marche nordique
END:VEVENT
BEGIN:VEVENT
DTSTART;TZID=Europe/Paris:20250512T140000
DTEND;TZID=Europe/Paris:20250512T153000
DTSTAMP:20260424T215526
CREATED:20250328T100154Z
LAST-MODIFIED:20250328T100154Z
UID:8823-1747058400-1747063800@moulins-rando.fr
SUMMARY:MARCHE SANTE A MOULINS WAVES
DESCRIPTION:RV 14H WAVES Parking Truffaut
URL:https://moulins-rando.fr/event/marche-sante-a-moulins-waves/
CATEGORIES:Marche santé
ORGANIZER;CN="DO REGO Isabelle":MAILTO:manueldorego@wanadoo.fr
END:VEVENT
BEGIN:VEVENT
DTSTART;TZID=Europe/Paris:20250512T140000
DTEND;TZID=Europe/Paris:20250512T170000
DTSTAMP:20260424T215526
CREATED:20250328T095901Z
LAST-MODIFIED:20250328T095901Z
UID:8821-1747058400-1747069200@moulins-rando.fr
SUMMARY:MARCHES SOUTENUE ET RAPIDE A GORZE
DESCRIPTION:RV 14H Parking des écoles à Gorze.
URL:https://moulins-rando.fr/event/marches-soutenue-et-rapide-a-gorze/
CATEGORIES:marche soutenue
END:VEVENT
BEGIN:VEVENT
DTSTART;TZID=Europe/Paris:20250514T140000
DTEND;TZID=Europe/Paris:20250514T170000
DTSTAMP:20260424T215526
CREATED:20250328T100356Z
LAST-MODIFIED:20250328T100356Z
UID:8825-1747231200-1747242000@moulins-rando.fr
SUMMARY:MARCHE DOUCE A MOULINS ST PIERRE
DESCRIPTION:RV 14H Parking du Collège Louis Armand\, situé près du canal.
URL:https://moulins-rando.fr/event/marche-douce-a-moulins-st-pierre-4/
CATEGORIES:Marche douce
ORGANIZER;CN="DO REGO Isabelle":MAILTO:manueldorego@wanadoo.fr
END:VEVENT
BEGIN:VEVENT
DTSTART;TZID=Europe/Paris:20250515T140000
DTEND;TZID=Europe/Paris:20250515T170000
DTSTAMP:20260424T215526
CREATED:20250328T100616Z
LAST-MODIFIED:20250328T100616Z
UID:8827-1747317600-1747328400@moulins-rando.fr
SUMMARY:MARCHE NORMALE A ARNAVILLE
DESCRIPTION:RV 14H Parking sur la place des fêtes en bordure de la rivière “ Rupt de Mad” L’accès se fait toujours sur la gauche en venant de Metz (prendre la rue des juifs)
URL:https://moulins-rando.fr/event/marche-normale-a-arnaville-4/
CATEGORIES:Marche normale
END:VEVENT
BEGIN:VEVENT
DTSTART;TZID=Europe/Paris:20250516T090000
DTEND;TZID=Europe/Paris:20250516T110000
DTSTAMP:20260424T215526
CREATED:20250328T100821Z
LAST-MODIFIED:20250328T100821Z
UID:8829-1747386000-1747393200@moulins-rando.fr
SUMMARY:MARCHE NORDIQUE A CHATEL ST GERMAIN
DESCRIPTION:RV 14H Parking  des Fourrières\nsitué derrière le Centre Socioculturel\, juste en face de la mairie.
URL:https://moulins-rando.fr/event/marche-nordique-a-chatel-st-germain-9/
CATEGORIES:Marche nordique
ORGANIZER;CN="JABLONKA Henri":MAILTO:henri.jablonka@numericable.com
END:VEVENT
BEGIN:VEVENT
DTSTART;TZID=Europe/Paris:20250518T090000
DTEND;TZID=Europe/Paris:20250518T170000
DTSTAMP:20260424T215526
CREATED:20250328T101158Z
LAST-MODIFIED:20250328T101158Z
UID:8831-1747558800-1747587600@moulins-rando.fr
SUMMARY:MARCHE DU DIMANCHE A LA MADINE ( journée )
DESCRIPTION:TOUR MADINE COVOITURAGE DPT 9H EGLISE HEUDICOURT REPAS TIRE DU SAC \nPensez à appeler l’animatrice
URL:https://moulins-rando.fr/event/marche-du-dimanche-a-la-madine-journee/
CATEGORIES:Marche du dimanche
ORGANIZER;CN="LETZELTER Gis%C3%A8le":MAILTO:giletz@orange.fr
END:VEVENT
BEGIN:VEVENT
DTSTART;TZID=Europe/Paris:20250519T140000
DTEND;TZID=Europe/Paris:20250519T153000
DTSTAMP:20260424T215526
CREATED:20250403T155919Z
LAST-MODIFIED:20250403T155919Z
UID:8841-1747663200-1747668600@moulins-rando.fr
SUMMARY:MARCHE SANTE A AUGNY
DESCRIPTION:RV 14H Parking de la  Salle des Fêtes à AUGNY.
URL:https://moulins-rando.fr/event/marche-sante-a-augny-3/
CATEGORIES:Marche santé
ORGANIZER;CN="DO REGO Isabelle":MAILTO:manueldorego@wanadoo.fr
END:VEVENT
BEGIN:VEVENT
DTSTART;TZID=Europe/Paris:20250519T140000
DTEND;TZID=Europe/Paris:20250519T170000
DTSTAMP:20260424T215526
CREATED:20250403T155744Z
LAST-MODIFIED:20250403T155744Z
UID:8839-1747663200-1747674000@moulins-rando.fr
SUMMARY:MARCHES RAPIDE ET SOUTENUE A ARS/MOSELLE
DESCRIPTION:RV 14H Parking situé prés de la gare d’Ars.
URL:https://moulins-rando.fr/event/marches-rapide-et-soutenue-a-ars-moselle/
CATEGORIES:marche soutenue
ORGANIZER;CN="MICHEL Jacques":MAILTO:patricia.michel57@wanadoo.fr
END:VEVENT
BEGIN:VEVENT
DTSTART;TZID=Europe/Paris:20250521T140000
DTEND;TZID=Europe/Paris:20250521T170000
DTSTAMP:20260424T215526
CREATED:20250403T160054Z
LAST-MODIFIED:20250403T160054Z
UID:8843-1747836000-1747846800@moulins-rando.fr
SUMMARY:MARCHE DOUCE A LA MAXE
DESCRIPTION:RV 144H Parking de la Salle Polyvalente située à l’extrémité du village.
URL:https://moulins-rando.fr/event/marche-douce-a-la-maxe-2/
CATEGORIES:Marche douce
ORGANIZER;CN="DO REGO Isabelle":MAILTO:manueldorego@wanadoo.fr
END:VEVENT
BEGIN:VEVENT
DTSTART;TZID=Europe/Paris:20250522T140000
DTEND;TZID=Europe/Paris:20250522T170000
DTSTAMP:20260424T215526
CREATED:20250403T160242Z
LAST-MODIFIED:20250403T160242Z
UID:8845-1747922400-1747933200@moulins-rando.fr
SUMMARY:MARCHE NORMALE A SAULNY
DESCRIPTION:RV 14H Parking de la salle Polyvalente.
URL:https://moulins-rando.fr/event/marche-normale-a-saulny/
CATEGORIES:Marche normale
ORGANIZER;CN="DURBAN alain":MAILTO:alain.durban@gmail.com
END:VEVENT
BEGIN:VEVENT
DTSTART;TZID=Europe/Paris:20250523T090000
DTEND;TZID=Europe/Paris:20250523T110000
DTSTAMP:20260424T215526
CREATED:20250403T160428Z
LAST-MODIFIED:20250403T160428Z
UID:8847-1747990800-1747998000@moulins-rando.fr
SUMMARY:MARCHE NORDIQUE A LESSY
DESCRIPTION:RV 9H  PARKING DE LA MAIRIE
URL:https://moulins-rando.fr/event/marche-nordique-a-lessy-2/
CATEGORIES:Marche nordique
END:VEVENT
BEGIN:VEVENT
DTSTART;TZID=Europe/Paris:20250525T090000
DTEND;TZID=Europe/Paris:20250525T130000
DTSTAMP:20260424T215526
CREATED:20250403T160820Z
LAST-MODIFIED:20250521T082138Z
UID:8849-1748163600-1748178000@moulins-rando.fr
SUMMARY:MARCHE DU DIMANCHE A METZ ( ANNULEE )
DESCRIPTION:CETTE MARCHE EST ANNULEE \nRV 9H  PARKING PATINOIRE ILE CHAMBIERE 7 KMS \nN’oubliez pas d’appeler l’animateur
URL:https://moulins-rando.fr/event/marche-du-dimanche-a-metz-1-2-j-3/
CATEGORIES:Marche du dimanche
ORGANIZER;CN="HENRY daniel":MAILTO:danielclaudehenry@gmail.com
END:VEVENT
BEGIN:VEVENT
DTSTART;TZID=Europe/Paris:20250526T140000
DTEND;TZID=Europe/Paris:20250526T153000
DTSTAMP:20260424T215526
CREATED:20250403T161424Z
LAST-MODIFIED:20250403T161424Z
UID:8853-1748268000-1748273400@moulins-rando.fr
SUMMARY:MARCHE SANTE A METZ MAGNY
DESCRIPTION:RV 14H  Parking  situé rue de la Charmine à Magny.
URL:https://moulins-rando.fr/event/marche-sante-a-metz-magny-3/
CATEGORIES:Marche santé
ORGANIZER;CN="DO REGO Isabelle":MAILTO:manueldorego@wanadoo.fr
END:VEVENT
BEGIN:VEVENT
DTSTART;TZID=Europe/Paris:20250526T140000
DTEND;TZID=Europe/Paris:20250526T170000
DTSTAMP:20260424T215526
CREATED:20250403T161236Z
LAST-MODIFIED:20250403T161236Z
UID:8851-1748268000-1748278800@moulins-rando.fr
SUMMARY:MARCHES RAPIDE ET SOUTENUE A SAULNY
DESCRIPTION:RV 14H                                                                                                                                                          Parking de la Salle Polyvalente
URL:https://moulins-rando.fr/event/marches-rapide-et-soutenue-a-saulny/
CATEGORIES:marche soutenue
END:VEVENT
BEGIN:VEVENT
DTSTART;TZID=Europe/Paris:20250528T140000
DTEND;TZID=Europe/Paris:20250528T170000
DTSTAMP:20260424T215526
CREATED:20250403T161553Z
LAST-MODIFIED:20250403T161553Z
UID:8855-1748440800-1748451600@moulins-rando.fr
SUMMARY:MARCHE DOUCE A JOUY AUX ARCHES
DESCRIPTION:RV 14H  Parking  Centre Socioculturel\nsitué à la sortie du village direction de Corny.
URL:https://moulins-rando.fr/event/marche-douce-a-jouy-aux-arches-2/
CATEGORIES:Marche douce
ORGANIZER;CN="DO REGO Isabelle":MAILTO:manueldorego@wanadoo.fr
END:VEVENT
END:VCALENDAR