BEGIN:VCALENDAR
VERSION:2.0
PRODID:-//Moulins rando - ECPv6.14.2//NONSGML v1.0//EN
CALSCALE:GREGORIAN
METHOD:PUBLISH
X-WR-CALNAME:Moulins rando
X-ORIGINAL-URL:https://moulins-rando.fr
X-WR-CALDESC:Évènements pour Moulins rando
REFRESH-INTERVAL;VALUE=DURATION:PT1H
X-Robots-Tag:noindex
X-PUBLISHED-TTL:PT1H
BEGIN:VTIMEZONE
TZID:Europe/Paris
BEGIN:DAYLIGHT
TZOFFSETFROM:+0100
TZOFFSETTO:+0200
TZNAME:CEST
DTSTART:20260329T010000
END:DAYLIGHT
BEGIN:STANDARD
TZOFFSETFROM:+0200
TZOFFSETTO:+0100
TZNAME:CET
DTSTART:20261025T010000
END:STANDARD
END:VTIMEZONE
BEGIN:VEVENT
DTSTART;TZID=Europe/Paris:20260422T140000
DTEND;TZID=Europe/Paris:20260422T170000
DTSTAMP:20260423T120137
CREATED:20260327T082442Z
LAST-MODIFIED:20260327T082442Z
UID:9642-1776866400-1776877200@moulins-rando.fr
SUMMARY:MARCHE DOUCE A METZZ
DESCRIPTION:METZ.\nRV 14H parking de la patinoire boulevard Saint-Symphorien..
URL:https://moulins-rando.fr/event/marche-douce-a-metzz/
CATEGORIES:Marche douce
END:VEVENT
BEGIN:VEVENT
DTSTART;TZID=Europe/Paris:20260420T140000
DTEND;TZID=Europe/Paris:20260420T170000
DTSTAMP:20260423T120137
CREATED:20260327T082054Z
LAST-MODIFIED:20260327T082054Z
UID:9638-1776693600-1776704400@moulins-rando.fr
SUMMARY:MARCHES SOUTENUE ET RAPIDE A NOVEANT SUR MOSELLE
DESCRIPTION:RV 14H Parking du Complexe sportif ( gymnase
URL:https://moulins-rando.fr/event/marches-soutenue-et-rapide-a-noveant-sur-moselle-3/
CATEGORIES:marche soutenue
ORGANIZER;CN="MICHEL Jacques":MAILTO:patricia.michel57@wanadoo.fr
END:VEVENT
BEGIN:VEVENT
DTSTART;TZID=Europe/Paris:20260420T140000
DTEND;TZID=Europe/Paris:20260420T153000
DTSTAMP:20260423T120137
CREATED:20260327T082231Z
LAST-MODIFIED:20260327T082231Z
UID:9640-1776693600-1776699000@moulins-rando.fr
SUMMARY:MARCHE SANTE A METZ MAGNY
DESCRIPTION:RV 14H Parking situé rue de la Charmine à Magny
URL:https://moulins-rando.fr/event/marche-sante-a-metz-magny-2/
CATEGORIES:Marche santé
ORGANIZER;CN="DO REGO Isabelle":MAILTO:manueldorego@wanadoo.fr
END:VEVENT
BEGIN:VEVENT
DTSTART;TZID=Europe/Paris:20260419T090000
DTEND;TZID=Europe/Paris:20260419T170000
DTSTAMP:20260423T120137
CREATED:20260327T081816Z
LAST-MODIFIED:20260327T081816Z
UID:9636-1776589200-1776618000@moulins-rando.fr
SUMMARY:MARCHE DU DIMANCHE A MARTINCOURT 54 ( journée )
DESCRIPTION:COVOITURAGE A 08H15 EGLISE MOULINS ST PIERRE 16 KMS EN JOURNEE REPAS TIRE DU\nSAC \nPensez à téléphoner à l’animateur.
URL:https://moulins-rando.fr/event/marche-du-dimanche-a-martincourt-54-journee/
CATEGORIES:Marche du dimanche
ORGANIZER;CN="LETZELTER Gis%C3%A8le":MAILTO:giletz@orange.fr
END:VEVENT
BEGIN:VEVENT
DTSTART;TZID=Europe/Paris:20260417T090000
DTEND;TZID=Europe/Paris:20260417T110000
DTSTAMP:20260423T120137
CREATED:20260327T081142Z
LAST-MODIFIED:20260327T081142Z
UID:9634-1776416400-1776423600@moulins-rando.fr
SUMMARY:MARCHE NORDIQUE DOUCE A CORNY
DESCRIPTION:RV 9H Parking de la salle des fêtes Paul GORET :\nEn venant de Metz\, Jouy-aux-arches\, rue à droite avant l’église
URL:https://moulins-rando.fr/event/marche-nordique-douce-a-corny/
CATEGORIES:Marche nordique douce
END:VEVENT
BEGIN:VEVENT
DTSTART;TZID=Europe/Paris:20260416T140000
DTEND;TZID=Europe/Paris:20260416T170000
DTSTAMP:20260423T120137
CREATED:20260327T080913Z
LAST-MODIFIED:20260327T080913Z
UID:9632-1776348000-1776358800@moulins-rando.fr
SUMMARY:MARCHE NORMALE A CHATEL ST GERMAIN
DESCRIPTION:RV 14H Parking des Fourrières\nsitué derrière le Centre Socioculturel\, juste en face de la mairie.
URL:https://moulins-rando.fr/event/marche-normale-a-chatel-st-germain/
CATEGORIES:Marche normale
ORGANIZER;CN="MAIRE Andr%C3%A9":MAILTO:maire.andre@orange.fr
END:VEVENT
BEGIN:VEVENT
DTSTART;TZID=Europe/Paris:20260415T140000
DTEND;TZID=Europe/Paris:20260415T170000
DTSTAMP:20260423T120137
CREATED:20260327T080718Z
LAST-MODIFIED:20260327T080718Z
UID:9630-1776261600-1776272400@moulins-rando.fr
SUMMARY:MARCHE DOUCE A METZ GRANGE AUX BOIS
DESCRIPTION:RV 14H – Parking crèche multi accueil route d’Ars Laquenexy
URL:https://moulins-rando.fr/event/marche-douce-a-metz-grange-aux-bois/
CATEGORIES:Marche douce
END:VEVENT
BEGIN:VEVENT
DTSTART;TZID=Europe/Paris:20260413T140000
DTEND;TZID=Europe/Paris:20260413T170000
DTSTAMP:20260423T120137
CREATED:20260327T080302Z
LAST-MODIFIED:20260410T134533Z
UID:9626-1776088800-1776099600@moulins-rando.fr
SUMMARY:MARCHES RAPIDE ET SOUTENUE A LESSY
DESCRIPTION:RV 14H PARKING PRES DU CIMETIERE ALLEE SOUVENIR Français OU PARKING MAIRIE
URL:https://moulins-rando.fr/event/marches-rapide-et-soutenue-a-lessy/
CATEGORIES:marche soutenue
ORGANIZER;CN="MAIRE Andr%C3%A9":MAILTO:maire.andre@orange.fr
END:VEVENT
BEGIN:VEVENT
DTSTART;TZID=Europe/Paris:20260413T140000
DTEND;TZID=Europe/Paris:20260413T153000
DTSTAMP:20260423T120137
CREATED:20260327T080508Z
LAST-MODIFIED:20260327T080508Z
UID:9628-1776088800-1776094200@moulins-rando.fr
SUMMARY:MARCHE SANTE A NOVEANT SUR MOSELLE
DESCRIPTION:RV 14H Parking du Complexe sportif ( gymnase )\nsitué à droite en sortant du village en direction d’Arnaville.
URL:https://moulins-rando.fr/event/marche-sante-a-noveant-sur-moselle-3/
CATEGORIES:Marche santé
ORGANIZER;CN="DO REGO Isabelle":MAILTO:manueldorego@wanadoo.fr
END:VEVENT
BEGIN:VEVENT
DTSTART;TZID=Europe/Paris:20260412T090000
DTEND;TZID=Europe/Paris:20260412T170000
DTSTAMP:20260423T120137
CREATED:20260322T091519Z
LAST-MODIFIED:20260402T091318Z
UID:9603-1775984400-1776013200@moulins-rando.fr
SUMMARY:QUENTINOISE: MOULINS CENTRE
DESCRIPTION:MARCHES PROPOSEES AU DEPART CHÂTEAU FABERT: \n9 H CIRCUIT COURT 10 KMS \n10H PETITE MARCHE DE 5 KMS organisée hors quentinoise sans inscription au départ.
URL:https://moulins-rando.fr/event/quentinoise-moulins-centre/
CATEGORIES:Marche normale,Marche santé
ORGANIZER;CN="LETZELTER Gis%C3%A8le":MAILTO:giletz@orange.fr
END:VEVENT
BEGIN:VEVENT
DTSTART;TZID=Europe/Paris:20260410T201500
DTEND;TZID=Europe/Paris:20260410T220000
DTSTAMP:20260423T120137
CREATED:20260408T045129Z
LAST-MODIFIED:20260408T050207Z
UID:9687-1775852100-1775858400@moulins-rando.fr
SUMMARY:Assemblée Générale Ordinaire du Moulins rando Vendredi  10 avril 2026  à  20h15 Château Fabert
DESCRIPTION:Notre  23ème assemblée générale se tiendra ce vendredi 10 avril\,\n\nChâteau Fabert\, à MOULINS Centre grande  Salle au rez-de-chaussée\,
URL:https://moulins-rando.fr/event/assemblee-generale-ordinaire-du-moulins-rando-vendredi-10-avril-2026-a-20h15-chateau-fabert/
CATEGORIES:Manifestation festive,Marche nordique
END:VEVENT
BEGIN:VEVENT
DTSTART;TZID=Europe/Paris:20260410T090000
DTEND;TZID=Europe/Paris:20260410T110000
DTSTAMP:20260423T120137
CREATED:20260322T091041Z
LAST-MODIFIED:20260322T091100Z
UID:9601-1775811600-1775818800@moulins-rando.fr
SUMMARY:MARCHES NORDIQUES NORMALE ET DOUCE
DESCRIPTION:NOVEANT-SUR-MOSELLE. Parking du Complexe sportif ( gymnase )\nsitué à droite en sortant du village en direction d’Arnaville.
URL:https://moulins-rando.fr/event/marches-nordiques-normale-et-douce-2/
CATEGORIES:Marche nordique,Marche nordique douce
END:VEVENT
BEGIN:VEVENT
DTSTART;TZID=Europe/Paris:20260409T090000
DTEND;TZID=Europe/Paris:20260409T170000
DTSTAMP:20260423T120137
CREATED:20260322T085958Z
LAST-MODIFIED:20260326T155206Z
UID:9596-1775725200-1775754000@moulins-rando.fr
SUMMARY:REPAS CHANTEREINE: MARCHES NORMALE ET DOUCE A PARTIR D'AMANVILLERS
DESCRIPTION:REPAS FERME DE CHANTEREINE 12H30. \ndépart à 09H00 parking salle des sports rue des Renards à AMANVILLERS.
URL:https://moulins-rando.fr/event/repas-chantereine-marches-normale-et-douce-a-partir-damanvillers/
CATEGORIES:Marche douce,Marche normale
ORGANIZER;CN="BRODIER Alain":MAILTO:a.brodier@orange.fr
END:VEVENT
BEGIN:VEVENT
DTSTART;TZID=Europe/Paris:20260408T140000
DTEND;TZID=Europe/Paris:20260408T170000
DTSTAMP:20260423T120137
CREATED:20260322T085240Z
LAST-MODIFIED:20260322T085240Z
UID:9593-1775656800-1775667600@moulins-rando.fr
SUMMARY:MARCHE DOUCE A ARNAVILLE
DESCRIPTION:RV 14H  Parking sur la place des fêtes en bordure de la rivière “ Rupt de Mad” L’accès se fait toujours sur la gauche en venant de Metz (prendre la rue des juifs)
URL:https://moulins-rando.fr/event/marche-douce-a-arnaville/
CATEGORIES:Marche douce
ORGANIZER;CN="DO REGO Isabelle":MAILTO:manueldorego@wanadoo.fr
END:VEVENT
BEGIN:VEVENT
DTSTART;TZID=Europe/Paris:20260403T090000
DTEND;TZID=Europe/Paris:20260403T110000
DTSTAMP:20260423T120137
CREATED:20260322T083742Z
LAST-MODIFIED:20260322T083742Z
UID:9591-1775206800-1775214000@moulins-rando.fr
SUMMARY:MARCHES NORDIQUES NORMALE ET DOUCE A AMANVILLERS
DESCRIPTION:Changement : RV 9H Parking entrée du village en venant de Châtel St Germain
URL:https://moulins-rando.fr/event/marches-nordiques-normale-et-douce-a-amanvillers/
CATEGORIES:Marche nordique,Marche nordique douce
ORGANIZER;CN="DEFEZ Mireille":MAILTO:mimidef@free.fr
END:VEVENT
BEGIN:VEVENT
DTSTART;TZID=Europe/Paris:20260402T140000
DTEND;TZID=Europe/Paris:20260402T170000
DTSTAMP:20260423T120137
CREATED:20260322T083327Z
LAST-MODIFIED:20260322T083327Z
UID:9589-1775138400-1775149200@moulins-rando.fr
SUMMARY:MARCHE NORMALE A GORZE
DESCRIPTION:RV 14H Parking des écoles à Gorze
URL:https://moulins-rando.fr/event/marche-normale-a-gorze-4/
CATEGORIES:Marche normale
END:VEVENT
BEGIN:VEVENT
DTSTART;TZID=Europe/Paris:20260401T140000
DTEND;TZID=Europe/Paris:20260401T170000
DTSTAMP:20260423T120138
CREATED:20260322T083132Z
LAST-MODIFIED:20260322T083132Z
UID:9587-1775052000-1775062800@moulins-rando.fr
SUMMARY:MARCHE DOUCE A MOULINS ST PIERRE
DESCRIPTION:RV 14H Parking du Collège Louis Armand\, situé près du canal.
URL:https://moulins-rando.fr/event/marche-douce-a-moulins-st-pierre/
CATEGORIES:Marche douce
ORGANIZER;CN="DO REGO Isabelle":MAILTO:manueldorego@wanadoo.fr
END:VEVENT
BEGIN:VEVENT
DTSTART;TZID=Europe/Paris:20260330T140000
DTEND;TZID=Europe/Paris:20260330T170000
DTSTAMP:20260423T120138
CREATED:20260113T164305Z
LAST-MODIFIED:20260113T164305Z
UID:9559-1774879200-1774890000@moulins-rando.fr
SUMMARY:MARCHES SOUTENUE ET RAPIDE A NOVEANT SUR MOSELLE
DESCRIPTION:RV 14H Parking  du Complexe sportif ( gymnase )\nsitué à droite en sortant du village en direction d’Arnaville.
URL:https://moulins-rando.fr/event/marches-soutenue-et-rapide-a-noveant-sur-moselle/
CATEGORIES:marche soutenue
END:VEVENT
BEGIN:VEVENT
DTSTART;TZID=Europe/Paris:20260330T140000
DTEND;TZID=Europe/Paris:20260330T153000
DTSTAMP:20260423T120138
CREATED:20260113T164450Z
LAST-MODIFIED:20260311T031710Z
UID:9561-1774879200-1774884600@moulins-rando.fr
SUMMARY:MARCHE SANTE A CHATEL ST GERMAIN
DESCRIPTION:RV 14H  Parking  des Fourrières\nsitué derrière le Centre Socioculturel\, juste en face de la mairie.
URL:https://moulins-rando.fr/event/marche-sante-a-chatel-st-germain/
CATEGORIES:Marche santé
ORGANIZER;CN="DO REGO Isabelle":MAILTO:manueldorego@wanadoo.fr
END:VEVENT
BEGIN:VEVENT
DTSTART;TZID=Europe/Paris:20260329T090000
DTEND;TZID=Europe/Paris:20260329T130000
DTSTAMP:20260423T120138
CREATED:20260113T164009Z
LAST-MODIFIED:20260328T162833Z
UID:9557-1774774800-1774789200@moulins-rando.fr
SUMMARY:MARCHE DU DIMANCHE A VECKRING : Marche annulée faute de participants et de météo aléatoire
DESCRIPTION:RV 9H SALLE DES FETES VECKRING   Annulée\nN’oubliez pas de téléphoner à l’animateur
URL:https://moulins-rando.fr/event/marche-du-dimanche-a-veckring/
CATEGORIES:Marche du dimanche
ORGANIZER;CN="HENRY daniel":MAILTO:danielclaudehenry@gmail.com
END:VEVENT
BEGIN:VEVENT
DTSTART;TZID=Europe/Paris:20260327T090000
DTEND;TZID=Europe/Paris:20260327T110000
DTSTAMP:20260423T120138
CREATED:20260113T163722Z
LAST-MODIFIED:20260311T031426Z
UID:9555-1774602000-1774609200@moulins-rando.fr
SUMMARY:MARCHES NORDIQUES DOUCE ET NORMALE
DESCRIPTION:rv 9H à proximité de l’église d’Arry.
URL:https://moulins-rando.fr/event/marches-nordiques-douce-et-normale/
CATEGORIES:Marche nordique
END:VEVENT
BEGIN:VEVENT
DTSTART;TZID=Europe/Paris:20260326T140000
DTEND;TZID=Europe/Paris:20260326T170000
DTSTAMP:20260423T120138
CREATED:20260113T163442Z
LAST-MODIFIED:20260113T163442Z
UID:9553-1774533600-1774544400@moulins-rando.fr
SUMMARY:MARCHE NORMALE A SAULNY
DESCRIPTION:RV 14H Parking de la salle Polyvalente.
URL:https://moulins-rando.fr/event/marche-normale-a-saulny-3/
CATEGORIES:Marche normale
ORGANIZER;CN="DURBAN alain":MAILTO:alain.durban@gmail.com
END:VEVENT
BEGIN:VEVENT
DTSTART;TZID=Europe/Paris:20260325T140000
DTEND;TZID=Europe/Paris:20260325T170000
DTSTAMP:20260423T120138
CREATED:20260113T163314Z
LAST-MODIFIED:20260113T163314Z
UID:9551-1774447200-1774458000@moulins-rando.fr
SUMMARY:MARCHE DOUCE A MOULINS CENTRE
DESCRIPTION:RV 14H Parking  du Presbytère\, rue des Moulins\, en face du Château Fabert.
URL:https://moulins-rando.fr/event/marche-douce-a-moulins-centre-4/
CATEGORIES:Marche douce
ORGANIZER;CN="DO REGO Isabelle":MAILTO:manueldorego@wanadoo.fr
END:VEVENT
BEGIN:VEVENT
DTSTART;TZID=Europe/Paris:20260323T140000
DTEND;TZID=Europe/Paris:20260323T170000
DTSTAMP:20260423T120138
CREATED:20260104T045822Z
LAST-MODIFIED:20260311T031308Z
UID:9538-1774274400-1774285200@moulins-rando.fr
SUMMARY:Marches soutenue et rapide le lundi  23 mars  à  14h\, à partir de  VAUX
DESCRIPTION:rendez-vous parking des écoles en haut du village. Rue du grand Chaté à VAUX
URL:https://moulins-rando.fr/event/marches-soutenue-et-rapide-le-lundi-23-mars-a-14h-a-partir-de-vaux/
CATEGORIES:marche soutenue
ORGANIZER;CN="MICHEL Jacques":MAILTO:patricia.michel57@wanadoo.fr
END:VEVENT
BEGIN:VEVENT
DTSTART;TZID=Europe/Paris:20260323T140000
DTEND;TZID=Europe/Paris:20260323T153000
DTSTAMP:20260423T120138
CREATED:20260104T050119Z
LAST-MODIFIED:20260311T031335Z
UID:9540-1774274400-1774279800@moulins-rando.fr
SUMMARY:Marche santé le lundi 23 mars  à 14h\, à  partir de METZ
DESCRIPTION:Rendez-vous 14h parking de la patinoire boulevard Saint-Symphorien METZ
URL:https://moulins-rando.fr/event/marche-sante-le-lundi-23-mars-a-14h-a-partir-de-mete/
CATEGORIES:Marche santé
ORGANIZER;CN="DO REGO Isabelle":MAILTO:manueldorego@wanadoo.fr
END:VEVENT
BEGIN:VEVENT
DTSTART;TZID=Europe/Paris:20260320T090000
DTEND;TZID=Europe/Paris:20260320T110000
DTSTAMP:20260423T120138
CREATED:20260104T045502Z
LAST-MODIFIED:20260311T031146Z
UID:9536-1773997200-1774004400@moulins-rando.fr
SUMMARY:Marche nordique le vendredi  20 mars à 9h\, à partir de  PLAPPEVILLE
DESCRIPTION:Rendez-vous 9h parking du stade-marché\, rue Général Brion.
URL:https://moulins-rando.fr/event/marche-nordique-le-vendredi-20-mars-a-9h-a-partir-de-plappeville/
CATEGORIES:Marche nordique
ORGANIZER;CN="DURBAN alain":MAILTO:alain.durban@gmail.com
END:VEVENT
BEGIN:VEVENT
DTSTART;TZID=Europe/Paris:20260319T140000
DTEND;TZID=Europe/Paris:20260319T170000
DTSTAMP:20260423T120138
CREATED:20260104T045222Z
LAST-MODIFIED:20260311T031105Z
UID:9534-1773928800-1773939600@moulins-rando.fr
SUMMARY:Marche normale le jeudi 19 mars  à 14h\, à partir de ARNAVILLE.
DESCRIPTION:Rendez-vous 14h  parking sur la place des fêtes en bordure de la rivière “ Rupt de Mad” \nL’accès se fait toujours sur la gauche en venant de Metz (prendre la rue des juifs)
URL:https://moulins-rando.fr/event/marche-normale-le-jeudi-19-mars-a-14h-a-partir-de-arnaville/
CATEGORIES:Marche normale
END:VEVENT
BEGIN:VEVENT
DTSTART;TZID=Europe/Paris:20260318T140000
DTEND;TZID=Europe/Paris:20260318T170000
DTSTAMP:20260423T120138
CREATED:20260104T044943Z
LAST-MODIFIED:20260311T031020Z
UID:9532-1773842400-1773853200@moulins-rando.fr
SUMMARY:Marche douce le mercredi  18 mars à 14h\, à partir de  ARNAVILLE
DESCRIPTION:Rendez-vous parking sur la place des fêtes en bordure de la rivière “ Rupt de Mad” à ARNAVILLE. \nL’accès se fait toujours sur la gauche en venant de Metz (prendre la rue des juifs)
URL:https://moulins-rando.fr/event/marche-douce-le-mercredi-18-mars-a-14h-a-partir-de-arnaville/
CATEGORIES:Marche douce
ORGANIZER;CN="DO REGO Isabelle":MAILTO:manueldorego@wanadoo.fr
END:VEVENT
BEGIN:VEVENT
DTSTART;TZID=Europe/Paris:20260316T140000
DTEND;TZID=Europe/Paris:20260316T170000
DTSTAMP:20260423T120138
CREATED:20260104T044336Z
LAST-MODIFIED:20260104T044422Z
UID:9527-1773669600-1773680400@moulins-rando.fr
SUMMARY:Marche soutenue le lundi 16 mars   à  14h\, à partir de  MARIEULLES
DESCRIPTION:Rendez-vous 14h  Place de la Mairie à MARIEULLES entre l’église et la mairie derrière l’arrêt de bus situé sur la route principale.
URL:https://moulins-rando.fr/event/marche-soutenue-le-lundi-16-mars-a-14h-a-partir-de-marieulles/
CATEGORIES:marche soutenue
END:VEVENT
BEGIN:VEVENT
DTSTART;TZID=Europe/Paris:20260316T140000
DTEND;TZID=Europe/Paris:20260316T153000
DTSTAMP:20260423T120138
CREATED:20260104T044650Z
LAST-MODIFIED:20260311T030855Z
UID:9530-1773669600-1773675000@moulins-rando.fr
SUMMARY:Marche santé le lundi 16 mars   à 14h\, à  partir de Moulins-saint-Pierre
DESCRIPTION:Rendez-vous Parking du Collège Louis Armand\, situé près du canal à MOULINS-SAINT-PIERRE
URL:https://moulins-rando.fr/event/marche-sante-le-lundi-16-mars-a-14h-a-partir-de-moulins-saint-pierre/
CATEGORIES:Marche santé
ORGANIZER;CN="DO REGO Isabelle":MAILTO:manueldorego@wanadoo.fr
END:VEVENT
END:VCALENDAR