BEGIN:VCALENDAR
VERSION:2.0
PRODID:-//Moulins rando - ECPv6.14.2//NONSGML v1.0//EN
CALSCALE:GREGORIAN
METHOD:PUBLISH
X-ORIGINAL-URL:https://moulins-rando.fr
X-WR-CALDESC:Évènements pour Moulins rando
REFRESH-INTERVAL;VALUE=DURATION:PT1H
X-Robots-Tag:noindex
X-PUBLISHED-TTL:PT1H
BEGIN:VTIMEZONE
TZID:Europe/Paris
BEGIN:DAYLIGHT
TZOFFSETFROM:+0100
TZOFFSETTO:+0200
TZNAME:CEST
DTSTART:20260329T010000
END:DAYLIGHT
BEGIN:STANDARD
TZOFFSETFROM:+0200
TZOFFSETTO:+0100
TZNAME:CET
DTSTART:20261025T010000
END:STANDARD
END:VTIMEZONE
BEGIN:VEVENT
DTSTART;TZID=Europe/Paris:20260427T140000
DTEND;TZID=Europe/Paris:20260427T170000
DTSTAMP:20260421T154328
CREATED:20260328T084105Z
LAST-MODIFIED:20260410T150411Z
UID:9653-1777298400-1777309200@moulins-rando.fr
SUMMARY:MARCHES SOUTENUE ET RAPIDE A ROZERIEULLES
DESCRIPTION:RV 14H Parking du Centre Socioculturel  » Le Longeau « \, à l’entrée du village
URL:https://moulins-rando.fr/event/marches-soutenue-et-rapide-a-rozerieulles/
CATEGORIES:marche soutenue
END:VEVENT
END:VCALENDAR