BEGIN:VCALENDAR
VERSION:2.0
PRODID:-//Moulins rando - ECPv6.14.2//NONSGML v1.0//EN
CALSCALE:GREGORIAN
METHOD:PUBLISH
X-ORIGINAL-URL:https://moulins-rando.fr
X-WR-CALDESC:Évènements pour Moulins rando
REFRESH-INTERVAL;VALUE=DURATION:PT1H
X-Robots-Tag:noindex
X-PUBLISHED-TTL:PT1H
BEGIN:VTIMEZONE
TZID:Europe/Paris
BEGIN:DAYLIGHT
TZOFFSETFROM:+0100
TZOFFSETTO:+0200
TZNAME:CEST
DTSTART:20260329T010000
END:DAYLIGHT
BEGIN:STANDARD
TZOFFSETFROM:+0200
TZOFFSETTO:+0100
TZNAME:CET
DTSTART:20261025T010000
END:STANDARD
END:VTIMEZONE
BEGIN:VEVENT
DTSTART;TZID=Europe/Paris:20260309T140000
DTEND;TZID=Europe/Paris:20260309T153000
DTSTAMP:20260423T122045
CREATED:20260104T042524Z
LAST-MODIFIED:20260104T042531Z
UID:9515-1773064800-1773070200@moulins-rando.fr
SUMMARY:Marche santé le lundi  9 mars à 14h\, à  partir de AUGNY
DESCRIPTION:rendez-vous 14h  Parking de la Salle des Fêtes à AUGNY.
URL:https://moulins-rando.fr/event/marche-sante-le-lundi-9-mars-a-14h-a-partir-de-augny/
CATEGORIES:Marche santé
ORGANIZER;CN="DO REGO Isabelle":MAILTO:manueldorego@wanadoo.fr
END:VEVENT
END:VCALENDAR