BEGIN:VCALENDAR
VERSION:2.0
PRODID:-//Moulins rando - ECPv6.14.2//NONSGML v1.0//EN
CALSCALE:GREGORIAN
METHOD:PUBLISH
X-ORIGINAL-URL:https://moulins-rando.fr
X-WR-CALDESC:Évènements pour Moulins rando
REFRESH-INTERVAL;VALUE=DURATION:PT1H
X-Robots-Tag:noindex
X-PUBLISHED-TTL:PT1H
BEGIN:VTIMEZONE
TZID:Europe/Paris
BEGIN:DAYLIGHT
TZOFFSETFROM:+0100
TZOFFSETTO:+0200
TZNAME:CEST
DTSTART:20260329T010000
END:DAYLIGHT
BEGIN:STANDARD
TZOFFSETFROM:+0200
TZOFFSETTO:+0100
TZNAME:CET
DTSTART:20261025T010000
END:STANDARD
END:VTIMEZONE
BEGIN:VEVENT
DTSTART;TZID=Europe/Paris:20260504T140000
DTEND;TZID=Europe/Paris:20260504T153000
DTSTAMP:20260422T002351
CREATED:20260328T085952Z
LAST-MODIFIED:20260328T085952Z
UID:9668-1777903200-1777908600@moulins-rando.fr
SUMMARY:MARCHE SANTE A ROZERIEULLES
DESCRIPTION:RV 14H Parking du Centre Socioculturel  » Le Longeau « \, à l’entrée du village
URL:https://moulins-rando.fr/event/marche-sante-a-rozerieulles-2/
CATEGORIES:Marche santé
ORGANIZER;CN="DO REGO Isabelle":MAILTO:manueldorego@wanadoo.fr
END:VEVENT
BEGIN:VEVENT
DTSTART;TZID=Europe/Paris:20260511T140000
DTEND;TZID=Europe/Paris:20260511T153000
DTSTAMP:20260422T002351
CREATED:20260417T075443Z
LAST-MODIFIED:20260417T075443Z
UID:9704-1778508000-1778513400@moulins-rando.fr
SUMMARY:MARCHE SANTE A MARLY
DESCRIPTION:RV 14H Parking Jules Ferry\, juste après le Centre Socioculturel\nLa Louvière. En venant de Metz\, prendre à droite au 2e feu rouge.
URL:https://moulins-rando.fr/event/marche-sante-a-marly/
CATEGORIES:Marche santé
ORGANIZER;CN="DO REGO Isabelle":MAILTO:manueldorego@wanadoo.fr
END:VEVENT
BEGIN:VEVENT
DTSTART;TZID=Europe/Paris:20260518T140000
DTEND;TZID=Europe/Paris:20260518T153000
DTSTAMP:20260422T002351
CREATED:20260417T080836Z
LAST-MODIFIED:20260417T080836Z
UID:9714-1779112800-1779118200@moulins-rando.fr
SUMMARY:MARCHE SANTE A MONTIGNY
DESCRIPTION:RV 14H Avenue Robert Schuman
URL:https://moulins-rando.fr/event/marche-sante-a-montigny/
CATEGORIES:Marche santé
ORGANIZER;CN="DO REGO Isabelle":MAILTO:manueldorego@wanadoo.fr
END:VEVENT
END:VCALENDAR