BEGIN:VCALENDAR
VERSION:2.0
PRODID:-//Moulins rando - ECPv6.14.2//NONSGML v1.0//EN
CALSCALE:GREGORIAN
METHOD:PUBLISH
X-WR-CALNAME:Moulins rando
X-ORIGINAL-URL:https://moulins-rando.fr
X-WR-CALDESC:Évènements pour Moulins rando
REFRESH-INTERVAL;VALUE=DURATION:PT1H
X-Robots-Tag:noindex
X-PUBLISHED-TTL:PT1H
BEGIN:VTIMEZONE
TZID:Europe/Paris
BEGIN:DAYLIGHT
TZOFFSETFROM:+0100
TZOFFSETTO:+0200
TZNAME:CEST
DTSTART:20260329T010000
END:DAYLIGHT
BEGIN:STANDARD
TZOFFSETFROM:+0200
TZOFFSETTO:+0100
TZNAME:CET
DTSTART:20261025T010000
END:STANDARD
END:VTIMEZONE
BEGIN:VEVENT
DTSTART;TZID=Europe/Paris:20260423T140000
DTEND;TZID=Europe/Paris:20260423T170000
DTSTAMP:20260422T002930
CREATED:20260327T082627Z
LAST-MODIFIED:20260327T082627Z
UID:9644-1776952800-1776963600@moulins-rando.fr
SUMMARY:MARCHE NORMALE A ANCY SUR MOSELLE
DESCRIPTION:RV 14H Parking du stade\, à gauche en sortant\ndu village\, direction de Novéant ( passer sous la voie ferrée)
URL:https://moulins-rando.fr/event/marche-normale-a-ancy-sur-moselle-3/
CATEGORIES:Marche normale
END:VEVENT
BEGIN:VEVENT
DTSTART;TZID=Europe/Paris:20260430T140000
DTEND;TZID=Europe/Paris:20260430T170000
DTSTAMP:20260422T002930
CREATED:20260328T084614Z
LAST-MODIFIED:20260328T084614Z
UID:9659-1777557600-1777568400@moulins-rando.fr
SUMMARY:MARCHE NORMALE A CHATEL ST GERMAIN
DESCRIPTION:RV 14H Parking des Fourrières\nsitué derrière le Centre Socioculturel\, juste en face de la mairie.
URL:https://moulins-rando.fr/event/marche-normale-a-chatel-st-germain-3/
CATEGORIES:Marche normale
ORGANIZER;CN="DEFEZ Mireille":MAILTO:mimidef@free.fr
END:VEVENT
END:VCALENDAR