BEGIN:VCALENDAR
VERSION:2.0
PRODID:-//Moulins rando - ECPv6.14.2//NONSGML v1.0//EN
CALSCALE:GREGORIAN
METHOD:PUBLISH
X-ORIGINAL-URL:https://moulins-rando.fr
X-WR-CALDESC:Évènements pour Moulins rando
REFRESH-INTERVAL;VALUE=DURATION:PT1H
X-Robots-Tag:noindex
X-PUBLISHED-TTL:PT1H
BEGIN:VTIMEZONE
TZID:Europe/Paris
BEGIN:DAYLIGHT
TZOFFSETFROM:+0100
TZOFFSETTO:+0200
TZNAME:CEST
DTSTART:20260329T010000
END:DAYLIGHT
BEGIN:STANDARD
TZOFFSETFROM:+0200
TZOFFSETTO:+0100
TZNAME:CET
DTSTART:20261025T010000
END:STANDARD
END:VTIMEZONE
BEGIN:VEVENT
DTSTART;TZID=Europe/Paris:20260326T140000
DTEND;TZID=Europe/Paris:20260326T170000
DTSTAMP:20260422T035636
CREATED:20260113T163442Z
LAST-MODIFIED:20260113T163442Z
UID:9553-1774533600-1774544400@moulins-rando.fr
SUMMARY:MARCHE NORMALE A SAULNY
DESCRIPTION:RV 14H Parking de la salle Polyvalente.
URL:https://moulins-rando.fr/event/marche-normale-a-saulny-3/
CATEGORIES:Marche normale
ORGANIZER;CN="DURBAN alain":MAILTO:alain.durban@gmail.com
END:VEVENT
END:VCALENDAR