BEGIN:VCALENDAR
VERSION:2.0
PRODID:-//Moulins rando - ECPv6.14.2//NONSGML v1.0//EN
CALSCALE:GREGORIAN
METHOD:PUBLISH
X-ORIGINAL-URL:https://moulins-rando.fr
X-WR-CALDESC:Évènements pour Moulins rando
REFRESH-INTERVAL;VALUE=DURATION:PT1H
X-Robots-Tag:noindex
X-PUBLISHED-TTL:PT1H
BEGIN:VTIMEZONE
TZID:Europe/Paris
BEGIN:DAYLIGHT
TZOFFSETFROM:+0100
TZOFFSETTO:+0200
TZNAME:CEST
DTSTART:20260329T010000
END:DAYLIGHT
BEGIN:STANDARD
TZOFFSETFROM:+0200
TZOFFSETTO:+0100
TZNAME:CET
DTSTART:20261025T010000
END:STANDARD
END:VTIMEZONE
BEGIN:VEVENT
DTSTART;TZID=Europe/Paris:20260312T140000
DTEND;TZID=Europe/Paris:20260312T170000
DTSTAMP:20260422T035637
CREATED:20260104T043204Z
LAST-MODIFIED:20260104T043211Z
UID:9519-1773324000-1773334800@moulins-rando.fr
SUMMARY:Marche normale le jeudi  12 mars à 14h\, à partir de ROZERIEULLES
DESCRIPTION:rendez-vous 14h  Parking du Centre Socioculturel  » Le Longeau « \, à l’entrée du village de ROZERIEULLES
URL:https://moulins-rando.fr/event/marche-normale-le-jeudi-12-mars-a-14h-a-partir-de-rozerieulles/
CATEGORIES:Marche normale
ORGANIZER;CN="NIERSBACH Mich%C3%A8le":MAILTO:micniers@aol.com
END:VEVENT
END:VCALENDAR