BEGIN:VCALENDAR
VERSION:2.0
PRODID:-//Moulins rando - ECPv6.14.2//NONSGML v1.0//EN
CALSCALE:GREGORIAN
METHOD:PUBLISH
X-WR-CALNAME:Moulins rando
X-ORIGINAL-URL:https://moulins-rando.fr
X-WR-CALDESC:Évènements pour Moulins rando
REFRESH-INTERVAL;VALUE=DURATION:PT1H
X-Robots-Tag:noindex
X-PUBLISHED-TTL:PT1H
BEGIN:VTIMEZONE
TZID:Europe/Paris
BEGIN:DAYLIGHT
TZOFFSETFROM:+0100
TZOFFSETTO:+0200
TZNAME:CEST
DTSTART:20260329T010000
END:DAYLIGHT
BEGIN:STANDARD
TZOFFSETFROM:+0200
TZOFFSETTO:+0100
TZNAME:CET
DTSTART:20261025T010000
END:STANDARD
END:VTIMEZONE
BEGIN:VEVENT
DTSTART;TZID=Europe/Paris:20260507T140000
DTEND;TZID=Europe/Paris:20260507T170000
DTSTAMP:20260422T002137
CREATED:20260328T090933Z
LAST-MODIFIED:20260328T090933Z
UID:9674-1778162400-1778173200@moulins-rando.fr
SUMMARY:MARCHE NORMALE A ARS SUR MOSELLE
DESCRIPTION:RV 14H Parking situé prés de la gare d’Ars.
URL:https://moulins-rando.fr/event/marche-normale-a-ars-sur-moselle/
CATEGORIES:Marche normale
END:VEVENT
BEGIN:VEVENT
DTSTART;TZID=Europe/Paris:20260521T140000
DTEND;TZID=Europe/Paris:20260521T170000
DTSTAMP:20260422T002137
CREATED:20260417T081154Z
LAST-MODIFIED:20260417T081154Z
UID:9718-1779372000-1779382800@moulins-rando.fr
SUMMARY:MARCHE NORMALE A ARRY
DESCRIPTION:RV 14H à proximité de l’église d’Arry.
URL:https://moulins-rando.fr/event/marche-normale-a-arry-3/
CATEGORIES:Marche normale
END:VEVENT
BEGIN:VEVENT
DTSTART;TZID=Europe/Paris:20260527T080000
DTEND;TZID=Europe/Paris:20260527T170000
DTSTAMP:20260422T002137
CREATED:20260417T082809Z
LAST-MODIFIED:20260417T082809Z
UID:9728-1779868800-1779901200@moulins-rando.fr
SUMMARY:JOURNEE COLORADO LORRAIN près de Bitche
DESCRIPTION:JOURNEE COLORADO LORRAIN PRES DE BITCHE ALLURE SOUTENUE DPT 8H PARKING\nDECATHLON AUGNY COVOITURAGE REPAS TIRE DU SAC CIRCUIT 13 KMS MERCI DE\nS’INSCRIRE AUPRES DE DENIS OU CATHERINE
URL:https://moulins-rando.fr/event/journee-colorado-lorrain-pres-de-bitche/
CATEGORIES:Marche normale
END:VEVENT
BEGIN:VEVENT
DTSTART;TZID=Europe/Paris:20260528T140000
DTEND;TZID=Europe/Paris:20260528T170000
DTSTAMP:20260422T002137
CREATED:20260417T083859Z
LAST-MODIFIED:20260417T083859Z
UID:9731-1779976800-1779987600@moulins-rando.fr
SUMMARY:MARCHE NORMALE A AMANVILLERS
DESCRIPTION:RV 14H Parking entrée du village en venant de Châtel St Germain \nSORTIE ASPERGES DES BOIS
URL:https://moulins-rando.fr/event/marche-normale-a-amanvillers-2/
CATEGORIES:Marche normale
ORGANIZER;CN="DEFEZ Mireille":MAILTO:mimidef@free.fr
END:VEVENT
END:VCALENDAR