BEGIN:VCALENDAR
VERSION:2.0
PRODID:-//Moulins rando - ECPv6.14.2//NONSGML v1.0//EN
CALSCALE:GREGORIAN
METHOD:PUBLISH
X-ORIGINAL-URL:https://moulins-rando.fr
X-WR-CALDESC:Évènements pour Moulins rando
REFRESH-INTERVAL;VALUE=DURATION:PT1H
X-Robots-Tag:noindex
X-PUBLISHED-TTL:PT1H
BEGIN:VTIMEZONE
TZID:Europe/Paris
BEGIN:DAYLIGHT
TZOFFSETFROM:+0100
TZOFFSETTO:+0200
TZNAME:CEST
DTSTART:20260329T010000
END:DAYLIGHT
BEGIN:STANDARD
TZOFFSETFROM:+0200
TZOFFSETTO:+0100
TZNAME:CET
DTSTART:20261025T010000
END:STANDARD
END:VTIMEZONE
BEGIN:VEVENT
DTSTART;TZID=Europe/Paris:20260227T090000
DTEND;TZID=Europe/Paris:20260227T110000
DTSTAMP:20260422T023359
CREATED:20260102T151455Z
LAST-MODIFIED:20260102T151455Z
UID:9496-1772182800-1772190000@moulins-rando.fr
SUMMARY:MARCHES NORDIQUES NORMALE ET DOUCE A GORZE
DESCRIPTION:RV 9H Parking des écoles à Gorze.
URL:https://moulins-rando.fr/event/marches-nordiques-normale-et-douce-a-gorze/
CATEGORIES:Marche nordique
END:VEVENT
END:VCALENDAR