BEGIN:VCALENDAR
VERSION:2.0
PRODID:-//Moulins rando - ECPv6.14.2//NONSGML v1.0//EN
CALSCALE:GREGORIAN
METHOD:PUBLISH
X-WR-CALNAME:Moulins rando
X-ORIGINAL-URL:https://moulins-rando.fr
X-WR-CALDESC:Évènements pour Moulins rando
REFRESH-INTERVAL;VALUE=DURATION:PT1H
X-Robots-Tag:noindex
X-PUBLISHED-TTL:PT1H
BEGIN:VTIMEZONE
TZID:Europe/Paris
BEGIN:DAYLIGHT
TZOFFSETFROM:+0100
TZOFFSETTO:+0200
TZNAME:CEST
DTSTART:20260329T010000
END:DAYLIGHT
BEGIN:STANDARD
TZOFFSETFROM:+0200
TZOFFSETTO:+0100
TZNAME:CET
DTSTART:20261025T010000
END:STANDARD
END:VTIMEZONE
BEGIN:VEVENT
DTSTART;TZID=Europe/Paris:20260102T090000
DTEND;TZID=Europe/Paris:20260102T110000
DTSTAMP:20260424T190630
CREATED:20251221T100545Z
LAST-MODIFIED:20251228T061642Z
UID:9382-1767344400-1767351600@moulins-rando.fr
SUMMARY:Marche nordique douce le vendredi 2 janvier 2026 à partir de Jouy-aux-Arches
DESCRIPTION:On démarre doucement ce 2 janvier 2026par une marche nordique qualifiée de douce avec très peu de montée à partir de Jouy-aux-Arches. Rendez-vous  9h du parking du Centre Socioculturel situé à la sortie du village direction de Corny.
URL:https://moulins-rando.fr/event/marche-nordique-douce-le-vendredi-2-janvier-2026-a-partir-de-jouy-aux-arches/
CATEGORIES:Marche nordique,Marche nordique douce
END:VEVENT
BEGIN:VEVENT
DTSTART;TZID=Europe/Paris:20260116T090000
DTEND;TZID=Europe/Paris:20260116T110000
DTSTAMP:20260424T190630
CREATED:20251222T085231Z
LAST-MODIFIED:20260109T073432Z
UID:9413-1768554000-1768561200@moulins-rando.fr
SUMMARY:MARCHE NORDIQUE  DOUCE le 16 janvier 2026 à ANCY-sur-Moselle
DESCRIPTION: \n\n\n\nRendez-vous 9h ANCY-SUR-MOSELLE parking du stade\, à gauche en sortant\ndu village\, direction de Novéant ( passer sous la voie ferrée)
URL:https://moulins-rando.fr/event/marche-nordique-douce-a-amanvillers/
CATEGORIES:Marche nordique douce
END:VEVENT
BEGIN:VEVENT
DTSTART;TZID=Europe/Paris:20260130T090000
DTEND;TZID=Europe/Paris:20260130T110000
DTSTAMP:20260424T190630
CREATED:20251222T092720Z
LAST-MODIFIED:20260126T095326Z
UID:9435-1769763600-1769770800@moulins-rando.fr
SUMMARY:MARCHES NORDIQUES NORMALE ET DOUCE A NOVEANT
DESCRIPTION:RV 9H Parking  du Complexe sportif ( gymnase )\nsitué à droite en sortant du village en direction d’Arnaville.
URL:https://moulins-rando.fr/event/marches-nordiques-normale-et-douce/
CATEGORIES:Marche nordique,Marche nordique douce
END:VEVENT
END:VCALENDAR