BEGIN:VCALENDAR
VERSION:2.0
PRODID:-//Moulins rando - ECPv6.14.2//NONSGML v1.0//EN
CALSCALE:GREGORIAN
METHOD:PUBLISH
X-ORIGINAL-URL:https://moulins-rando.fr
X-WR-CALDESC:Évènements pour Moulins rando
REFRESH-INTERVAL;VALUE=DURATION:PT1H
X-Robots-Tag:noindex
X-PUBLISHED-TTL:PT1H
BEGIN:VTIMEZONE
TZID:Europe/Paris
BEGIN:DAYLIGHT
TZOFFSETFROM:+0100
TZOFFSETTO:+0200
TZNAME:CEST
DTSTART:20260329T010000
END:DAYLIGHT
BEGIN:STANDARD
TZOFFSETFROM:+0200
TZOFFSETTO:+0100
TZNAME:CET
DTSTART:20261025T010000
END:STANDARD
END:VTIMEZONE
BEGIN:VEVENT
DTSTART;TZID=Europe/Paris:20260513T140000
DTEND;TZID=Europe/Paris:20260513T170000
DTSTAMP:20260422T034715
CREATED:20260417T075707Z
LAST-MODIFIED:20260417T075707Z
UID:9706-1778680800-1778691600@moulins-rando.fr
SUMMARY:MARCHE DOUCE A PELTRE
DESCRIPTION:RV 14H rue des Vignes\,\n1ère à gauche après l’église en venant de Metz-Magny
URL:https://moulins-rando.fr/event/marche-douce-a-peltre/
CATEGORIES:Marche douce
END:VEVENT
END:VCALENDAR