BEGIN:VCALENDAR
VERSION:2.0
PRODID:-//Moulins rando - ECPv6.14.2//NONSGML v1.0//EN
CALSCALE:GREGORIAN
METHOD:PUBLISH
X-ORIGINAL-URL:https://moulins-rando.fr
X-WR-CALDESC:Évènements pour Moulins rando
REFRESH-INTERVAL;VALUE=DURATION:PT1H
X-Robots-Tag:noindex
X-PUBLISHED-TTL:PT1H
BEGIN:VTIMEZONE
TZID:Europe/Paris
BEGIN:DAYLIGHT
TZOFFSETFROM:+0100
TZOFFSETTO:+0200
TZNAME:CEST
DTSTART:20250330T010000
END:DAYLIGHT
BEGIN:STANDARD
TZOFFSETFROM:+0200
TZOFFSETTO:+0100
TZNAME:CET
DTSTART:20251026T010000
END:STANDARD
END:VTIMEZONE
BEGIN:VEVENT
DTSTART;TZID=Europe/Paris:20251029T140000
DTEND;TZID=Europe/Paris:20251029T170000
DTSTAMP:20260424T141558
CREATED:20250925T083401Z
LAST-MODIFIED:20250925T083401Z
UID:9236-1761746400-1761757200@moulins-rando.fr
SUMMARY:MARCHE DOUCE A METZ MAGNY
DESCRIPTION:RV 14H Parking  situé rue de la Charmine à Magny.
URL:https://moulins-rando.fr/event/marche-douce-a-metz-magny-6/
CATEGORIES:Marche douce
ORGANIZER;CN="DO REGO Isabelle":MAILTO:manueldorego@wanadoo.fr
END:VEVENT
END:VCALENDAR