BEGIN:VCALENDAR
VERSION:2.0
PRODID:-//Moulins rando - ECPv6.14.2//NONSGML v1.0//EN
CALSCALE:GREGORIAN
METHOD:PUBLISH
X-ORIGINAL-URL:https://moulins-rando.fr
X-WR-CALDESC:Évènements pour Moulins rando
REFRESH-INTERVAL;VALUE=DURATION:PT1H
X-Robots-Tag:noindex
X-PUBLISHED-TTL:PT1H
BEGIN:VTIMEZONE
TZID:Europe/Paris
BEGIN:DAYLIGHT
TZOFFSETFROM:+0100
TZOFFSETTO:+0200
TZNAME:CEST
DTSTART:20260329T010000
END:DAYLIGHT
BEGIN:STANDARD
TZOFFSETFROM:+0200
TZOFFSETTO:+0100
TZNAME:CET
DTSTART:20261025T010000
END:STANDARD
END:VTIMEZONE
BEGIN:VEVENT
DTSTART;TZID=Europe/Paris:20260515T090000
DTEND;TZID=Europe/Paris:20260515T110000
DTSTAMP:20260423T133222
CREATED:20260417T080005Z
LAST-MODIFIED:20260417T080005Z
UID:9708-1778835600-1778842800@moulins-rando.fr
SUMMARY:MARCHE NORDIQUE A LESSY
DESCRIPTION:RV 9H PARKING PRES DU CIMETIERE ALLEE SOUVENIR Français OU PARKING MAIRIE
URL:https://moulins-rando.fr/event/marche-nordique-a-lessy/
CATEGORIES:Marche nordique
ORGANIZER;CN="DURBAN alain":MAILTO:alain.durban@gmail.com
END:VEVENT
END:VCALENDAR