BEGIN:VCALENDAR
VERSION:2.0
PRODID:-//Moulins rando - ECPv6.14.2//NONSGML v1.0//EN
CALSCALE:GREGORIAN
METHOD:PUBLISH
X-ORIGINAL-URL:https://moulins-rando.fr
X-WR-CALDESC:Évènements pour Moulins rando
REFRESH-INTERVAL;VALUE=DURATION:PT1H
X-Robots-Tag:noindex
X-PUBLISHED-TTL:PT1H
BEGIN:VTIMEZONE
TZID:Europe/Paris
BEGIN:DAYLIGHT
TZOFFSETFROM:+0100
TZOFFSETTO:+0200
TZNAME:CEST
DTSTART:20260329T010000
END:DAYLIGHT
BEGIN:STANDARD
TZOFFSETFROM:+0200
TZOFFSETTO:+0100
TZNAME:CET
DTSTART:20261025T010000
END:STANDARD
END:VTIMEZONE
BEGIN:VEVENT
DTSTART;TZID=Europe/Paris:20260223T140000
DTEND;TZID=Europe/Paris:20260223T153000
DTSTAMP:20260421T205318
CREATED:20260102T150922Z
LAST-MODIFIED:20260102T150922Z
UID:9490-1771855200-1771860600@moulins-rando.fr
SUMMARY:MARCHE SANTE A CUVRY
DESCRIPTION:RV 14H Maison pour tous\, entrée du village
URL:https://moulins-rando.fr/event/marche-sante-a-cuvry-4/
CATEGORIES:Marche santé
ORGANIZER;CN="DO REGO Isabelle":MAILTO:manueldorego@wanadoo.fr
END:VEVENT
BEGIN:VEVENT
DTSTART;TZID=Europe/Paris:20260223T140000
DTEND;TZID=Europe/Paris:20260223T170000
DTSTAMP:20260421T205318
CREATED:20260102T150752Z
LAST-MODIFIED:20260102T150752Z
UID:9488-1771855200-1771866000@moulins-rando.fr
SUMMARY:MARCHES SOUTENUE ET RAPIDE A ARNAVILLE
DESCRIPTION:RV 14H   Parking sur la place des fêtes en bordure de la rivière “ Rupt de Mad” L’accès se fait toujours sur la gauche en venant de Metz (prendre la rue des juifs)
URL:https://moulins-rando.fr/event/marches-soutenue-et-rapide-a-arnaville/
CATEGORIES:marche soutenue
ORGANIZER;CN="MICHEL Jacques":MAILTO:patricia.michel57@wanadoo.fr
END:VEVENT
END:VCALENDAR