BEGIN:VCALENDAR
VERSION:2.0
PRODID:-//Moulins rando - ECPv6.14.2//NONSGML v1.0//EN
CALSCALE:GREGORIAN
METHOD:PUBLISH
X-WR-CALNAME:Moulins rando
X-ORIGINAL-URL:https://moulins-rando.fr
X-WR-CALDESC:Évènements pour Moulins rando
REFRESH-INTERVAL;VALUE=DURATION:PT1H
X-Robots-Tag:noindex
X-PUBLISHED-TTL:PT1H
BEGIN:VTIMEZONE
TZID:Europe/Paris
BEGIN:DAYLIGHT
TZOFFSETFROM:+0100
TZOFFSETTO:+0200
TZNAME:CEST
DTSTART:20260329T010000
END:DAYLIGHT
BEGIN:STANDARD
TZOFFSETFROM:+0200
TZOFFSETTO:+0100
TZNAME:CET
DTSTART:20261025T010000
END:STANDARD
END:VTIMEZONE
BEGIN:VEVENT
DTSTART;TZID=Europe/Paris:20260222T090000
DTEND;TZID=Europe/Paris:20260222T170000
DTSTAMP:20260421T223348
CREATED:20260101T165754Z
LAST-MODIFIED:20260220T155642Z
UID:9485-1771750800-1771779600@moulins-rando.fr
SUMMARY:MARCHE DU DIMANCHE A JOUY AUX ARCHES ( journée )
DESCRIPTION:RV 9H Parking Centre Socioculturel\nsitué à la sortie du village direction de Corny. \nRepas tiré du sac. \nN’oubliez pas de prévenir l’animatrice.
URL:https://moulins-rando.fr/event/marche-du-dimanche-a-augny-journee/
CATEGORIES:Marche du dimanche
ORGANIZER;CN="LETZELTER Gis%C3%A8le":MAILTO:giletz@orange.fr
END:VEVENT
END:VCALENDAR