BEGIN:VCALENDAR
VERSION:2.0
PRODID:-//Moulins rando - ECPv6.14.2//NONSGML v1.0//EN
CALSCALE:GREGORIAN
METHOD:PUBLISH
X-ORIGINAL-URL:https://moulins-rando.fr
X-WR-CALDESC:Évènements pour Moulins rando
REFRESH-INTERVAL;VALUE=DURATION:PT1H
X-Robots-Tag:noindex
X-PUBLISHED-TTL:PT1H
BEGIN:VTIMEZONE
TZID:Europe/Paris
BEGIN:DAYLIGHT
TZOFFSETFROM:+0100
TZOFFSETTO:+0200
TZNAME:CEST
DTSTART:20260329T010000
END:DAYLIGHT
BEGIN:STANDARD
TZOFFSETFROM:+0200
TZOFFSETTO:+0100
TZNAME:CET
DTSTART:20261025T010000
END:STANDARD
END:VTIMEZONE
BEGIN:VEVENT
DTSTART;TZID=Europe/Paris:20260220T090000
DTEND;TZID=Europe/Paris:20260220T110000
DTSTAMP:20260422T000118
CREATED:20260101T165503Z
LAST-MODIFIED:20260101T165503Z
UID:9483-1771578000-1771585200@moulins-rando.fr
SUMMARY:MARCHE NORDIQUE A AMANVILLERS
DESCRIPTION:RV 9H Changement : Parking entrée du village en venant de Châtel St Germain
URL:https://moulins-rando.fr/event/marche-nordique-a-amanvillers-2/
CATEGORIES:Marche nordique
ORGANIZER;CN="DEFEZ Mireille":MAILTO:mimidef@free.fr
END:VEVENT
END:VCALENDAR