BEGIN:VCALENDAR
VERSION:2.0
PRODID:-//Moulins rando - ECPv6.14.2//NONSGML v1.0//EN
CALSCALE:GREGORIAN
METHOD:PUBLISH
X-ORIGINAL-URL:https://moulins-rando.fr
X-WR-CALDESC:Évènements pour Moulins rando
REFRESH-INTERVAL;VALUE=DURATION:PT1H
X-Robots-Tag:noindex
X-PUBLISHED-TTL:PT1H
BEGIN:VTIMEZONE
TZID:Europe/Paris
BEGIN:DAYLIGHT
TZOFFSETFROM:+0100
TZOFFSETTO:+0200
TZNAME:CEST
DTSTART:20260329T010000
END:DAYLIGHT
BEGIN:STANDARD
TZOFFSETFROM:+0200
TZOFFSETTO:+0100
TZNAME:CET
DTSTART:20261025T010000
END:STANDARD
END:VTIMEZONE
BEGIN:VEVENT
DTSTART;TZID=Europe/Paris:20260213T090000
DTEND;TZID=Europe/Paris:20260213T110000
DTSTAMP:20260422T000249
CREATED:20260101T164013Z
LAST-MODIFIED:20260101T164013Z
UID:9471-1770973200-1770980400@moulins-rando.fr
SUMMARY:MARCHE NORDIQUE DOUCE A AUGNY
DESCRIPTION:RV 9H Parking de la  Salle des Fêtes à AUGNY.
URL:https://moulins-rando.fr/event/marche-nordique-douce-a-augny/
CATEGORIES:Marche nordique douce
END:VEVENT
END:VCALENDAR