BEGIN:VCALENDAR
VERSION:2.0
PRODID:-//Moulins rando - ECPv6.14.2//NONSGML v1.0//EN
CALSCALE:GREGORIAN
METHOD:PUBLISH
X-ORIGINAL-URL:https://moulins-rando.fr
X-WR-CALDESC:Évènements pour Moulins rando
REFRESH-INTERVAL;VALUE=DURATION:PT1H
X-Robots-Tag:noindex
X-PUBLISHED-TTL:PT1H
BEGIN:VTIMEZONE
TZID:Europe/Paris
BEGIN:DAYLIGHT
TZOFFSETFROM:+0100
TZOFFSETTO:+0200
TZNAME:CEST
DTSTART:20260329T010000
END:DAYLIGHT
BEGIN:STANDARD
TZOFFSETFROM:+0200
TZOFFSETTO:+0100
TZNAME:CET
DTSTART:20261025T010000
END:STANDARD
END:VTIMEZONE
BEGIN:VEVENT
DTSTART;TZID=Europe/Paris:20260212T140000
DTEND;TZID=Europe/Paris:20260212T170000
DTSTAMP:20260422T000219
CREATED:20260101T163705Z
LAST-MODIFIED:20260101T163705Z
UID:9469-1770904800-1770915600@moulins-rando.fr
SUMMARY:MARCHE NORMALE A GORZE
DESCRIPTION:RV 14H Parking des écoles à Gorze.
URL:https://moulins-rando.fr/event/marche-normale-a-gorze-3/
CATEGORIES:Marche normale
END:VEVENT
END:VCALENDAR