BEGIN:VCALENDAR
VERSION:2.0
PRODID:-//Moulins rando - ECPv6.14.2//NONSGML v1.0//EN
CALSCALE:GREGORIAN
METHOD:PUBLISH
X-WR-CALNAME:Moulins rando
X-ORIGINAL-URL:https://moulins-rando.fr
X-WR-CALDESC:Évènements pour Moulins rando
REFRESH-INTERVAL;VALUE=DURATION:PT1H
X-Robots-Tag:noindex
X-PUBLISHED-TTL:PT1H
BEGIN:VTIMEZONE
TZID:Europe/Paris
BEGIN:DAYLIGHT
TZOFFSETFROM:+0100
TZOFFSETTO:+0200
TZNAME:CEST
DTSTART:20260329T010000
END:DAYLIGHT
BEGIN:STANDARD
TZOFFSETFROM:+0200
TZOFFSETTO:+0100
TZNAME:CET
DTSTART:20261025T010000
END:STANDARD
END:VTIMEZONE
BEGIN:VEVENT
DTSTART;TZID=Europe/Paris:20260126T140000
DTEND;TZID=Europe/Paris:20260126T153000
DTSTAMP:20260421T235744
CREATED:20251222T091508Z
LAST-MODIFIED:20251222T091508Z
UID:9429-1769436000-1769441400@moulins-rando.fr
SUMMARY:MARCHE SANTE A ROZERIEULLES
DESCRIPTION:RV 14H Parking du Centre Socioculturel  » Le Longeau « \, à l’entrée du village.
URL:https://moulins-rando.fr/event/marche-sante-a-rozerieulles/
CATEGORIES:Marche santé
ORGANIZER;CN="DO REGO Isabelle":MAILTO:manueldorego@wanadoo.fr
END:VEVENT
BEGIN:VEVENT
DTSTART;TZID=Europe/Paris:20260126T140000
DTEND;TZID=Europe/Paris:20260126T170000
DTSTAMP:20260421T235744
CREATED:20251222T091242Z
LAST-MODIFIED:20251222T091242Z
UID:9427-1769436000-1769446800@moulins-rando.fr
SUMMARY:MARCHES SOUTENUE ET RAPIDE A VAUX
DESCRIPTION:RV 14H Parking des écoles en haut du village. Rue du grand Chaté
URL:https://moulins-rando.fr/event/marches-soutenue-et-rapide-a-vaux/
CATEGORIES:marche soutenue
END:VEVENT
END:VCALENDAR