BEGIN:VCALENDAR
VERSION:2.0
PRODID:-//Moulins rando - ECPv6.14.2//NONSGML v1.0//EN
CALSCALE:GREGORIAN
METHOD:PUBLISH
X-WR-CALNAME:Moulins rando
X-ORIGINAL-URL:https://moulins-rando.fr
X-WR-CALDESC:Évènements pour Moulins rando
REFRESH-INTERVAL;VALUE=DURATION:PT1H
X-Robots-Tag:noindex
X-PUBLISHED-TTL:PT1H
BEGIN:VTIMEZONE
TZID:Europe/Paris
BEGIN:DAYLIGHT
TZOFFSETFROM:+0100
TZOFFSETTO:+0200
TZNAME:CEST
DTSTART:20260329T010000
END:DAYLIGHT
BEGIN:STANDARD
TZOFFSETFROM:+0200
TZOFFSETTO:+0100
TZNAME:CET
DTSTART:20261025T010000
END:STANDARD
END:VTIMEZONE
BEGIN:VEVENT
DTSTART;TZID=Europe/Paris:20260114T140000
DTEND;TZID=Europe/Paris:20260114T163000
DTSTAMP:20260422T032936
CREATED:20251222T084454Z
LAST-MODIFIED:20251222T084454Z
UID:9409-1768399200-1768408200@moulins-rando.fr
SUMMARY:MARCHE NORDIQUE SPORTIVE A VAUX
DESCRIPTION:RV 14H Parking des écoles en haut du village. Rue du grand Chaté
URL:https://moulins-rando.fr/event/marche-nordique-sportive-a-vaux-2/
CATEGORIES:Marche nordique
END:VEVENT
BEGIN:VEVENT
DTSTART;TZID=Europe/Paris:20260114T140000
DTEND;TZID=Europe/Paris:20260114T170000
DTSTAMP:20260422T032936
CREATED:20251222T083957Z
LAST-MODIFIED:20251222T083957Z
UID:9407-1768399200-1768410000@moulins-rando.fr
SUMMARY:MARCHE DOUCE A NOVEANT SUR MOSELLE
DESCRIPTION:RV 14H Parking  du Complexe sportif ( gymnase )\nsitué à droite en sortant du village en direction d’Arnaville.
URL:https://moulins-rando.fr/event/marche-douce-a-noveant-sur-moselle/
CATEGORIES:Marche douce
ORGANIZER;CN="DO REGO Isabelle":MAILTO:manueldorego@wanadoo.fr
END:VEVENT
END:VCALENDAR