BEGIN:VCALENDAR
VERSION:2.0
PRODID:-//Moulins rando - ECPv6.14.2//NONSGML v1.0//EN
CALSCALE:GREGORIAN
METHOD:PUBLISH
X-WR-CALNAME:Moulins rando
X-ORIGINAL-URL:https://moulins-rando.fr
X-WR-CALDESC:Évènements pour Moulins rando
REFRESH-INTERVAL;VALUE=DURATION:PT1H
X-Robots-Tag:noindex
X-PUBLISHED-TTL:PT1H
BEGIN:VTIMEZONE
TZID:Europe/Paris
BEGIN:DAYLIGHT
TZOFFSETFROM:+0100
TZOFFSETTO:+0200
TZNAME:CEST
DTSTART:20260329T010000
END:DAYLIGHT
BEGIN:STANDARD
TZOFFSETFROM:+0200
TZOFFSETTO:+0100
TZNAME:CET
DTSTART:20261025T010000
END:STANDARD
END:VTIMEZONE
BEGIN:VEVENT
DTSTART;TZID=Europe/Paris:20260109T090000
DTEND;TZID=Europe/Paris:20260109T110000
DTSTAMP:20260424T140635
CREATED:20251221T103435Z
LAST-MODIFIED:20260109T073909Z
UID:9395-1767949200-1767956400@moulins-rando.fr
SUMMARY:Marche nordique le vendredi 9 janvier 2026  à 9h\, à partir de  VAUX .........(annulée )
DESCRIPTION:Marche annulée cause conditions météo\nRendez-vous 9h à VAUX.Parking des écoles en haut du village. Rue du grand Chaté
URL:https://moulins-rando.fr/event/marche-nordique-le-vendredi-9-janvier-2026-a-9h-a-partir-de-vaux/
CATEGORIES:Marche nordique
END:VEVENT
END:VCALENDAR