BEGIN:VCALENDAR
VERSION:2.0
PRODID:-//Moulins rando - ECPv6.14.2//NONSGML v1.0//EN
CALSCALE:GREGORIAN
METHOD:PUBLISH
X-ORIGINAL-URL:https://moulins-rando.fr
X-WR-CALDESC:Évènements pour Moulins rando
REFRESH-INTERVAL;VALUE=DURATION:PT1H
X-Robots-Tag:noindex
X-PUBLISHED-TTL:PT1H
BEGIN:VTIMEZONE
TZID:Europe/Paris
BEGIN:DAYLIGHT
TZOFFSETFROM:+0100
TZOFFSETTO:+0200
TZNAME:CEST
DTSTART:20250330T010000
END:DAYLIGHT
BEGIN:STANDARD
TZOFFSETFROM:+0200
TZOFFSETTO:+0100
TZNAME:CET
DTSTART:20251026T010000
END:STANDARD
END:VTIMEZONE
BEGIN:VEVENT
DTSTART;TZID=Europe/Paris:20251127T140000
DTEND;TZID=Europe/Paris:20251127T170000
DTSTAMP:20260422T121300
CREATED:20250926T143652Z
LAST-MODIFIED:20251011T075852Z
UID:9290-1764252000-1764262800@moulins-rando.fr
SUMMARY:MARCHE NORMALE A COLLIGNY
DESCRIPTION:RV 14H Parking City Stade 10 Chemin de Villers
URL:https://moulins-rando.fr/event/marche-normale-a-colligny/
CATEGORIES:Marche normale
ORGANIZER;CN="MAIRE Andr%C3%A9":MAILTO:maire.andre@orange.fr
END:VEVENT
END:VCALENDAR