BEGIN:VCALENDAR
VERSION:2.0
PRODID:-//Moulins rando - ECPv6.14.2//NONSGML v1.0//EN
CALSCALE:GREGORIAN
METHOD:PUBLISH
X-WR-CALNAME:Moulins rando
X-ORIGINAL-URL:https://moulins-rando.fr
X-WR-CALDESC:Évènements pour Moulins rando
REFRESH-INTERVAL;VALUE=DURATION:PT1H
X-Robots-Tag:noindex
X-PUBLISHED-TTL:PT1H
BEGIN:VTIMEZONE
TZID:Europe/Paris
BEGIN:DAYLIGHT
TZOFFSETFROM:+0100
TZOFFSETTO:+0200
TZNAME:CEST
DTSTART:20250330T010000
END:DAYLIGHT
BEGIN:STANDARD
TZOFFSETFROM:+0200
TZOFFSETTO:+0100
TZNAME:CET
DTSTART:20251026T010000
END:STANDARD
END:VTIMEZONE
BEGIN:VEVENT
DTSTART;TZID=Europe/Paris:20251117T140000
DTEND;TZID=Europe/Paris:20251117T153000
DTSTAMP:20260424T140405
CREATED:20250926T092601Z
LAST-MODIFIED:20250926T092601Z
UID:9272-1763388000-1763393400@moulins-rando.fr
SUMMARY:MARCHE SANTE A MONTIGNY
DESCRIPTION:RV 14H Avenue Robert Schuman.
URL:https://moulins-rando.fr/event/marche-sante-a-montigny-4/
CATEGORIES:Marche santé
ORGANIZER;CN="DO REGO Isabelle":MAILTO:manueldorego@wanadoo.fr
END:VEVENT
BEGIN:VEVENT
DTSTART;TZID=Europe/Paris:20251117T140000
DTEND;TZID=Europe/Paris:20251117T170000
DTSTAMP:20260424T140405
CREATED:20250926T092409Z
LAST-MODIFIED:20250926T092409Z
UID:9270-1763388000-1763398800@moulins-rando.fr
SUMMARY:MARCHES RAPIDE ET SOUTENUE A ROZERIEULLES
DESCRIPTION:RV 14H Parking du Centre Socioculturel  » Le Longeau « \, à l’entrée du village.
URL:https://moulins-rando.fr/event/marches-rapide-et-soutenue-a-rozerieulles/
CATEGORIES:marche soutenue
END:VEVENT
END:VCALENDAR