BEGIN:VCALENDAR
VERSION:2.0
PRODID:-//Moulins rando - ECPv6.14.2//NONSGML v1.0//EN
CALSCALE:GREGORIAN
METHOD:PUBLISH
X-ORIGINAL-URL:https://moulins-rando.fr
X-WR-CALDESC:Évènements pour Moulins rando
REFRESH-INTERVAL;VALUE=DURATION:PT1H
X-Robots-Tag:noindex
X-PUBLISHED-TTL:PT1H
BEGIN:VTIMEZONE
TZID:Europe/Paris
BEGIN:DAYLIGHT
TZOFFSETFROM:+0100
TZOFFSETTO:+0200
TZNAME:CEST
DTSTART:20250330T010000
END:DAYLIGHT
BEGIN:STANDARD
TZOFFSETFROM:+0200
TZOFFSETTO:+0100
TZNAME:CET
DTSTART:20251026T010000
END:STANDARD
END:VTIMEZONE
BEGIN:VEVENT
DTSTART;TZID=Europe/Paris:20251109T090000
DTEND;TZID=Europe/Paris:20251109T130000
DTSTAMP:20260424T155446
CREATED:20250925T163813Z
LAST-MODIFIED:20251106T091109Z
UID:9256-1762678800-1762693200@moulins-rando.fr
SUMMARY:MARCHE DU DIMANCHE A METZ CHAMBIERES( lieu de départ changé )
DESCRIPTION:RV 9h  parking public de l’Ile du Saulcy (au fond\, sous le pont autoroutier près du bâtiment « Faculté de Droit Economie et Administration » \nPrévenir l’animateur
URL:https://moulins-rando.fr/event/marche-du-dimanche-a-metz-chambieres/
CATEGORIES:Marche du dimanche
ORGANIZER;CN="HENRY daniel":MAILTO:danielclaudehenry@gmail.com
END:VEVENT
END:VCALENDAR