BEGIN:VCALENDAR
VERSION:2.0
PRODID:-//Moulins rando - ECPv6.14.2//NONSGML v1.0//EN
CALSCALE:GREGORIAN
METHOD:PUBLISH
X-WR-CALNAME:Moulins rando
X-ORIGINAL-URL:https://moulins-rando.fr
X-WR-CALDESC:Évènements pour Moulins rando
REFRESH-INTERVAL;VALUE=DURATION:PT1H
X-Robots-Tag:noindex
X-PUBLISHED-TTL:PT1H
BEGIN:VTIMEZONE
TZID:Europe/Paris
BEGIN:DAYLIGHT
TZOFFSETFROM:+0100
TZOFFSETTO:+0200
TZNAME:CEST
DTSTART:20250330T010000
END:DAYLIGHT
BEGIN:STANDARD
TZOFFSETFROM:+0200
TZOFFSETTO:+0100
TZNAME:CET
DTSTART:20251026T010000
END:STANDARD
END:VTIMEZONE
BEGIN:VEVENT
DTSTART;TZID=Europe/Paris:20251027T140000
DTEND;TZID=Europe/Paris:20251027T153000
DTSTAMP:20260422T084442
CREATED:20250925T083101Z
LAST-MODIFIED:20250925T083101Z
UID:9234-1761573600-1761579000@moulins-rando.fr
SUMMARY:MARCHE SANTE A CHATEL ST GERMAIN
DESCRIPTION:RV 14H Parking  des Fourrières\nsitué derrière le Centre Socioculturel\, juste en face de la mairie.
URL:https://moulins-rando.fr/event/marche-sante-a-chatel-st-germain-7/
CATEGORIES:Marche santé
ORGANIZER;CN="DO REGO Isabelle":MAILTO:manueldorego@wanadoo.fr
END:VEVENT
BEGIN:VEVENT
DTSTART;TZID=Europe/Paris:20251027T140000
DTEND;TZID=Europe/Paris:20251027T170000
DTSTAMP:20260422T084442
CREATED:20250925T082916Z
LAST-MODIFIED:20250925T082916Z
UID:9232-1761573600-1761584400@moulins-rando.fr
SUMMARY:MARCHE SOUTENUE A VAUX
DESCRIPTION:RV 14H Parking des écoles en haut du village. Rue du grand Chaté
URL:https://moulins-rando.fr/event/marche-soutenue-a-vaux/
CATEGORIES:marche soutenue
END:VEVENT
END:VCALENDAR