BEGIN:VCALENDAR
VERSION:2.0
PRODID:-//Moulins rando - ECPv6.14.2//NONSGML v1.0//EN
CALSCALE:GREGORIAN
METHOD:PUBLISH
X-ORIGINAL-URL:https://moulins-rando.fr
X-WR-CALDESC:Évènements pour Moulins rando
REFRESH-INTERVAL;VALUE=DURATION:PT1H
X-Robots-Tag:noindex
X-PUBLISHED-TTL:PT1H
BEGIN:VTIMEZONE
TZID:Europe/Paris
BEGIN:DAYLIGHT
TZOFFSETFROM:+0100
TZOFFSETTO:+0200
TZNAME:CEST
DTSTART:20250330T010000
END:DAYLIGHT
BEGIN:STANDARD
TZOFFSETFROM:+0200
TZOFFSETTO:+0100
TZNAME:CET
DTSTART:20251026T010000
END:STANDARD
END:VTIMEZONE
BEGIN:VEVENT
DTSTART;TZID=Europe/Paris:20251009T140000
DTEND;TZID=Europe/Paris:20251009T170000
DTSTAMP:20260422T084630
CREATED:20250924T075503Z
LAST-MODIFIED:20250924T075503Z
UID:9204-1760018400-1760029200@moulins-rando.fr
SUMMARY:MARCHE NORMALE A ROZERIEULLES
DESCRIPTION:RV 14H Parking du Centre Socioculturel  » Le Longeau « \, à l’entrée du village. VENTE BRIOCHE AMITIE
URL:https://moulins-rando.fr/event/marche-normale-a-rozerieulles-5/
CATEGORIES:Marche normale
ORGANIZER;CN="NIERSBACH Mich%C3%A8le":MAILTO:micniers@aol.com
END:VEVENT
END:VCALENDAR