BEGIN:VCALENDAR
VERSION:2.0
PRODID:-//Moulins rando - ECPv6.14.2//NONSGML v1.0//EN
CALSCALE:GREGORIAN
METHOD:PUBLISH
X-ORIGINAL-URL:https://moulins-rando.fr
X-WR-CALDESC:Évènements pour Moulins rando
REFRESH-INTERVAL;VALUE=DURATION:PT1H
X-Robots-Tag:noindex
X-PUBLISHED-TTL:PT1H
BEGIN:VTIMEZONE
TZID:Europe/Paris
BEGIN:DAYLIGHT
TZOFFSETFROM:+0100
TZOFFSETTO:+0200
TZNAME:CEST
DTSTART:20250330T010000
END:DAYLIGHT
BEGIN:STANDARD
TZOFFSETFROM:+0200
TZOFFSETTO:+0100
TZNAME:CET
DTSTART:20251026T010000
END:STANDARD
END:VTIMEZONE
BEGIN:VEVENT
DTSTART;TZID=Europe/Paris:20251003T080000
DTEND;TZID=Europe/Paris:20251003T170000
DTSTAMP:20260422T103233
CREATED:20250926T145121Z
LAST-MODIFIED:20250926T145936Z
UID:9296-1759478400-1759510800@moulins-rando.fr
SUMMARY:WEEK END AUTOMNAL A OBERBRONN
DESCRIPTION:3\, 4 et 5 octobre Sur réservation
URL:https://moulins-rando.fr/event/3-4-et-5-octobre-week-end-automnal-a-oberbronn/
CATEGORIES:Marche du dimanche
END:VEVENT
BEGIN:VEVENT
DTSTART;TZID=Europe/Paris:20251003T090000
DTEND;TZID=Europe/Paris:20251003T110000
DTSTAMP:20260422T103233
CREATED:20250924T074026Z
LAST-MODIFIED:20250924T074026Z
UID:9194-1759482000-1759489200@moulins-rando.fr
SUMMARY:MARCHE NORDIQUE A GORZE
DESCRIPTION:RV 9H Parking des écoles à Gorze.
URL:https://moulins-rando.fr/event/marche-nordique-a-gorze-3/
CATEGORIES:Marche nordique
END:VEVENT
END:VCALENDAR