BEGIN:VCALENDAR
VERSION:2.0
PRODID:-//Moulins rando - ECPv6.14.2//NONSGML v1.0//EN
CALSCALE:GREGORIAN
METHOD:PUBLISH
X-WR-CALNAME:Moulins rando
X-ORIGINAL-URL:https://moulins-rando.fr
X-WR-CALDESC:Évènements pour Moulins rando
REFRESH-INTERVAL;VALUE=DURATION:PT1H
X-Robots-Tag:noindex
X-PUBLISHED-TTL:PT1H
BEGIN:VTIMEZONE
TZID:Europe/Paris
BEGIN:DAYLIGHT
TZOFFSETFROM:+0100
TZOFFSETTO:+0200
TZNAME:CEST
DTSTART:20250330T010000
END:DAYLIGHT
BEGIN:STANDARD
TZOFFSETFROM:+0200
TZOFFSETTO:+0100
TZNAME:CET
DTSTART:20251026T010000
END:STANDARD
END:VTIMEZONE
BEGIN:VEVENT
DTSTART;TZID=Europe/Paris:20250918T140000
DTEND;TZID=Europe/Paris:20250918T170000
DTSTAMP:20260424T154551
CREATED:20250717T095254Z
LAST-MODIFIED:20250825T091118Z
UID:9114-1758204000-1758214800@moulins-rando.fr
SUMMARY:Marche normale le jeudi  18 septembre à 14h\, à partir de SCY-CHAZELLES
DESCRIPTION:SCY-CHAZELLES. Parking situé à proximité de la mairie et de l’église Saint-Remi de Scy-Haut.
URL:https://moulins-rando.fr/event/marche-normale-le-jeudi-18-septembre-a-9h-a-partir-de-scy-chazelles/
CATEGORIES:Marche normale
ORGANIZER;CN="MAIRE Andr%C3%A9":MAILTO:maire.andre@orange.fr
END:VEVENT
END:VCALENDAR