BEGIN:VCALENDAR
VERSION:2.0
PRODID:-//Moulins rando - ECPv6.14.2//NONSGML v1.0//EN
CALSCALE:GREGORIAN
METHOD:PUBLISH
X-ORIGINAL-URL:https://moulins-rando.fr
X-WR-CALDESC:Évènements pour Moulins rando
REFRESH-INTERVAL;VALUE=DURATION:PT1H
X-Robots-Tag:noindex
X-PUBLISHED-TTL:PT1H
BEGIN:VTIMEZONE
TZID:Europe/Paris
BEGIN:DAYLIGHT
TZOFFSETFROM:+0100
TZOFFSETTO:+0200
TZNAME:CEST
DTSTART:20250330T010000
END:DAYLIGHT
BEGIN:STANDARD
TZOFFSETFROM:+0200
TZOFFSETTO:+0100
TZNAME:CET
DTSTART:20251026T010000
END:STANDARD
END:VTIMEZONE
BEGIN:VEVENT
DTSTART;TZID=Europe/Paris:20250914T090000
DTEND;TZID=Europe/Paris:20250914T170000
DTSTAMP:20260424T155355
CREATED:20250717T094405Z
LAST-MODIFIED:20250717T094405Z
UID:9106-1757840400-1757869200@moulins-rando.fr
SUMMARY:Marche du dimanche 14 septembre à la journée\, départ à  9h\,  à partir de   METZ  repas tiré du sac    pensez à prévenir l'animateur de votre participation
DESCRIPTION:PETIT TOUR DE METZ 18 KMS JOURNEE REPAS TIRE DU SAC DPT GRANGE AUX BOIS PARKING CRECHE MULTI ACCUEIL ROUTE ARS LAQUENEXY
URL:https://moulins-rando.fr/event/marche-du-dimanche-14-septembre-a-la-journee-depart-a-9h-a-partir-de-metz-repas-tire-du-sac-pensez-a-prevenir-lanimateur-de-votre-participation/
CATEGORIES:Marche du dimanche
END:VEVENT
END:VCALENDAR