BEGIN:VCALENDAR
VERSION:2.0
PRODID:-//Moulins rando - ECPv6.14.2//NONSGML v1.0//EN
CALSCALE:GREGORIAN
METHOD:PUBLISH
X-WR-CALNAME:Moulins rando
X-ORIGINAL-URL:https://moulins-rando.fr
X-WR-CALDESC:Évènements pour Moulins rando
REFRESH-INTERVAL;VALUE=DURATION:PT1H
X-Robots-Tag:noindex
X-PUBLISHED-TTL:PT1H
BEGIN:VTIMEZONE
TZID:Europe/Paris
BEGIN:DAYLIGHT
TZOFFSETFROM:+0100
TZOFFSETTO:+0200
TZNAME:CEST
DTSTART:20250330T010000
END:DAYLIGHT
BEGIN:STANDARD
TZOFFSETFROM:+0200
TZOFFSETTO:+0100
TZNAME:CET
DTSTART:20251026T010000
END:STANDARD
END:VTIMEZONE
BEGIN:VEVENT
DTSTART;TZID=Europe/Paris:20250710T090000
DTEND;TZID=Europe/Paris:20250710T120000
DTSTAMP:20260424T185027
CREATED:20250629T134932Z
LAST-MODIFIED:20250629T141145Z
UID:8983-1752138000-1752148800@moulins-rando.fr
SUMMARY:MARCHE NORMALE A METZ GRANGE AUX BOIS
DESCRIPTION:  \n\n\n\nRV 9H  Parking crèche multi accueil route d’Ars Laquenexy
URL:https://moulins-rando.fr/event/marche-normale-a-metz-grange-aux-bois/
CATEGORIES:Marche normale
END:VEVENT
END:VCALENDAR