BEGIN:VCALENDAR
VERSION:2.0
PRODID:-//Moulins rando - ECPv6.14.2//NONSGML v1.0//EN
CALSCALE:GREGORIAN
METHOD:PUBLISH
X-WR-CALNAME:Moulins rando
X-ORIGINAL-URL:https://moulins-rando.fr
X-WR-CALDESC:Évènements pour Moulins rando
REFRESH-INTERVAL;VALUE=DURATION:PT1H
X-Robots-Tag:noindex
X-PUBLISHED-TTL:PT1H
BEGIN:VTIMEZONE
TZID:Europe/Paris
BEGIN:DAYLIGHT
TZOFFSETFROM:+0100
TZOFFSETTO:+0200
TZNAME:CEST
DTSTART:20250330T010000
END:DAYLIGHT
BEGIN:STANDARD
TZOFFSETFROM:+0200
TZOFFSETTO:+0100
TZNAME:CET
DTSTART:20251026T010000
END:STANDARD
END:VTIMEZONE
BEGIN:VEVENT
DTSTART;TZID=Europe/Paris:20250707T090000
DTEND;TZID=Europe/Paris:20250707T120000
DTSTAMP:20260424T184939
CREATED:20250629T134119Z
LAST-MODIFIED:20250629T134119Z
UID:8977-1751878800-1751889600@moulins-rando.fr
SUMMARY:MARCHES SOUTENUE ET RAPIDE A ANCY/MOSELLE
DESCRIPTION:RV 9H Parking du stade\,  à gauche en sortant\ndu village\, direction de Novéant ( passer sous la voie ferrée)
URL:https://moulins-rando.fr/event/marches-soutenue-et-rapide-a-ancy-moselle-3/
CATEGORIES:marche soutenue
END:VEVENT
BEGIN:VEVENT
DTSTART;TZID=Europe/Paris:20250707T140000
DTEND;TZID=Europe/Paris:20250707T153000
DTSTAMP:20260424T184939
CREATED:20250629T134324Z
LAST-MODIFIED:20250629T141420Z
UID:8979-1751896800-1751902200@moulins-rando.fr
SUMMARY:MARCHE SANTE A MARLY
DESCRIPTION:RV 14H  Parking Jules Ferry\, juste après le Centre Socioculturel\nLa Louvière. En venant de Metz\, prendre à droite au 2e feu rouge.
URL:https://moulins-rando.fr/event/marche-sante-a-marly-3/
CATEGORIES:Marche santé
ORGANIZER;CN="DO REGO Isabelle":MAILTO:manueldorego@wanadoo.fr
END:VEVENT
END:VCALENDAR