BEGIN:VCALENDAR
VERSION:2.0
PRODID:-//Moulins rando - ECPv6.14.2//NONSGML v1.0//EN
CALSCALE:GREGORIAN
METHOD:PUBLISH
X-ORIGINAL-URL:https://moulins-rando.fr
X-WR-CALDESC:Évènements pour Moulins rando
REFRESH-INTERVAL;VALUE=DURATION:PT1H
X-Robots-Tag:noindex
X-PUBLISHED-TTL:PT1H
BEGIN:VTIMEZONE
TZID:Europe/Paris
BEGIN:DAYLIGHT
TZOFFSETFROM:+0100
TZOFFSETTO:+0200
TZNAME:CEST
DTSTART:20250330T010000
END:DAYLIGHT
BEGIN:STANDARD
TZOFFSETFROM:+0200
TZOFFSETTO:+0100
TZNAME:CET
DTSTART:20251026T010000
END:STANDARD
END:VTIMEZONE
BEGIN:VEVENT
DTSTART;TZID=Europe/Paris:20250630T090000
DTEND;TZID=Europe/Paris:20250630T120000
DTSTAMP:20260424T185307
CREATED:20250414T092314Z
LAST-MODIFIED:20250629T132550Z
UID:8917-1751274000-1751284800@moulins-rando.fr
SUMMARY:Modification : compte tenu de la canicule les marches  soutenue  et  rapide prévue à NOVEANT sur MOSELLE  le lundi 30juin se feront le matin\, donc départ 9h au lieu de 14h.
DESCRIPTION:Compte tenu de la canicule les marches soutenue et rapide prévue à NOVEANT sur MOSELLE le lundi 30 juin se feront le matin au lieu de l’après-midi. Donc rendez -vous à 9h sur le parking habituel du complexe sportif situé à droite en sortant du village en direction d’Arnaville.
URL:https://moulins-rando.fr/event/marches-soutenue-et-rapide-a-noveant-moselle/
CATEGORIES:marche soutenue
END:VEVENT
BEGIN:VEVENT
DTSTART;TZID=Europe/Paris:20250630T140000
DTEND;TZID=Europe/Paris:20250630T153000
DTSTAMP:20260424T185307
CREATED:20250414T092458Z
LAST-MODIFIED:20250629T133221Z
UID:8919-1751292000-1751297400@moulins-rando.fr
SUMMARY:MARCHE santé prévue à  ROZERIEULLES : Annulée pour cause de canicule
DESCRIPTION:Marche annulée
URL:https://moulins-rando.fr/event/marche-sante-a-rozerieulles-6/
CATEGORIES:Marche santé
ORGANIZER;CN="DO REGO Isabelle":MAILTO:manueldorego@wanadoo.fr
END:VEVENT
END:VCALENDAR