BEGIN:VCALENDAR
VERSION:2.0
PRODID:-//Moulins rando - ECPv6.14.2//NONSGML v1.0//EN
CALSCALE:GREGORIAN
METHOD:PUBLISH
X-WR-CALNAME:Moulins rando
X-ORIGINAL-URL:https://moulins-rando.fr
X-WR-CALDESC:Évènements pour Moulins rando
REFRESH-INTERVAL;VALUE=DURATION:PT1H
X-Robots-Tag:noindex
X-PUBLISHED-TTL:PT1H
BEGIN:VTIMEZONE
TZID:Europe/Paris
BEGIN:DAYLIGHT
TZOFFSETFROM:+0100
TZOFFSETTO:+0200
TZNAME:CEST
DTSTART:20250330T010000
END:DAYLIGHT
BEGIN:STANDARD
TZOFFSETFROM:+0200
TZOFFSETTO:+0100
TZNAME:CET
DTSTART:20251026T010000
END:STANDARD
END:VTIMEZONE
BEGIN:VEVENT
DTSTART;TZID=Europe/Paris:20250629T080000
DTEND;TZID=Europe/Paris:20250629T170000
DTSTAMP:20260424T215257
CREATED:20250411T170943Z
LAST-MODIFIED:20250411T170956Z
UID:8910-1751184000-1751216400@moulins-rando.fr
SUMMARY:MARCHE DU DIMANCHE A LAHAYMEIX (journée)
DESCRIPTION:« LE VENT DES FORETS » \nRV 8 H PARKING MOULINS FABERT OU 9 H LAHAYMEIX \nREPAS TIRE DU SAC \nN’oubliez pas de téléphoner à l’animateur
URL:https://moulins-rando.fr/event/marche-du-dimanche-a-lahaymeix-journee/
CATEGORIES:Marche du dimanche
ORGANIZER;CN="HENRY daniel":MAILTO:danielclaudehenry@gmail.com
END:VEVENT
END:VCALENDAR