BEGIN:VCALENDAR
VERSION:2.0
PRODID:-//Moulins rando - ECPv6.14.2//NONSGML v1.0//EN
CALSCALE:GREGORIAN
METHOD:PUBLISH
X-ORIGINAL-URL:https://moulins-rando.fr
X-WR-CALDESC:Évènements pour Moulins rando
REFRESH-INTERVAL;VALUE=DURATION:PT1H
X-Robots-Tag:noindex
X-PUBLISHED-TTL:PT1H
BEGIN:VTIMEZONE
TZID:Europe/Paris
BEGIN:DAYLIGHT
TZOFFSETFROM:+0100
TZOFFSETTO:+0200
TZNAME:CEST
DTSTART:20250330T010000
END:DAYLIGHT
BEGIN:STANDARD
TZOFFSETFROM:+0200
TZOFFSETTO:+0100
TZNAME:CET
DTSTART:20251026T010000
END:STANDARD
END:VTIMEZONE
BEGIN:VEVENT
DTSTART;TZID=Europe/Paris:20250626T140000
DTEND;TZID=Europe/Paris:20250626T170000
DTSTAMP:20260424T202442
CREATED:20250411T164235Z
LAST-MODIFIED:20250411T164235Z
UID:8906-1750946400-1750957200@moulins-rando.fr
SUMMARY:MARCHE NORMALE A CHATEL ST GERMAIN
DESCRIPTION:RV 14 H  Parking  des Fourrières\nsitué derrière le Centre Socioculturel\, juste en face de la mairie.
URL:https://moulins-rando.fr/event/marche-normale-a-chatel-st-germain-6/
CATEGORIES:Marche normale
ORGANIZER;CN="DEFEZ Mireille":MAILTO:mimidef@free.fr
END:VEVENT
END:VCALENDAR