BEGIN:VCALENDAR
VERSION:2.0
PRODID:-//Moulins rando - ECPv6.14.2//NONSGML v1.0//EN
CALSCALE:GREGORIAN
METHOD:PUBLISH
X-ORIGINAL-URL:https://moulins-rando.fr
X-WR-CALDESC:Évènements pour Moulins rando
REFRESH-INTERVAL;VALUE=DURATION:PT1H
X-Robots-Tag:noindex
X-PUBLISHED-TTL:PT1H
BEGIN:VTIMEZONE
TZID:Europe/Paris
BEGIN:DAYLIGHT
TZOFFSETFROM:+0100
TZOFFSETTO:+0200
TZNAME:CEST
DTSTART:20250330T010000
END:DAYLIGHT
BEGIN:STANDARD
TZOFFSETFROM:+0200
TZOFFSETTO:+0100
TZNAME:CET
DTSTART:20251026T010000
END:STANDARD
END:VTIMEZONE
BEGIN:VEVENT
DTSTART;TZID=Europe/Paris:20250618T140000
DTEND;TZID=Europe/Paris:20250618T170000
DTSTAMP:20260424T202456
CREATED:20250411T162454Z
LAST-MODIFIED:20250411T162454Z
UID:8893-1750255200-1750266000@moulins-rando.fr
SUMMARY:MARCHE DOUCE A MARLY
DESCRIPTION:RV 14H  Parking Jules Ferry\, juste après le Centre Socioculturel\nLa Louvière. En venant de Metz\, prendre à droite au 2e feu rouge.
URL:https://moulins-rando.fr/event/marche-douce-a-marly-6/
CATEGORIES:Marche douce
ORGANIZER;CN="VILMIN Raymonde":MAILTO:raymondevilmin@gmail.com
END:VEVENT
END:VCALENDAR