BEGIN:VCALENDAR
VERSION:2.0
PRODID:-//Moulins rando - ECPv6.14.2//NONSGML v1.0//EN
CALSCALE:GREGORIAN
METHOD:PUBLISH
X-ORIGINAL-URL:https://moulins-rando.fr
X-WR-CALDESC:Évènements pour Moulins rando
REFRESH-INTERVAL;VALUE=DURATION:PT1H
X-Robots-Tag:noindex
X-PUBLISHED-TTL:PT1H
BEGIN:VTIMEZONE
TZID:Europe/Paris
BEGIN:DAYLIGHT
TZOFFSETFROM:+0100
TZOFFSETTO:+0200
TZNAME:CEST
DTSTART:20250330T010000
END:DAYLIGHT
BEGIN:STANDARD
TZOFFSETFROM:+0200
TZOFFSETTO:+0100
TZNAME:CET
DTSTART:20251026T010000
END:STANDARD
END:VTIMEZONE
BEGIN:VEVENT
DTSTART;TZID=Europe/Paris:20250613T090000
DTEND;TZID=Europe/Paris:20250613T110000
DTSTAMP:20260424T202424
CREATED:20250403T164341Z
LAST-MODIFIED:20250403T164341Z
UID:8875-1749805200-1749812400@moulins-rando.fr
SUMMARY:MARCHE NORDIQUE A SCY-CHAZELLES
DESCRIPTION:RV 9H  Parking situé à proximité\nde la mairie et de l’église Saint-Remi de Scy-Haut.
URL:https://moulins-rando.fr/event/marche-nordique-a-scy-chazelles-5/
CATEGORIES:Marche nordique
ORGANIZER;CN="JABLONKA Henri":MAILTO:henri.jablonka@numericable.com
END:VEVENT
END:VCALENDAR